BEGIN:VCALENDAR
VERSION:2.0
PRODID:-//Alan Dotchin Blog - ECPv6.15.20//NONSGML v1.0//EN
CALSCALE:GREGORIAN
METHOD:PUBLISH
X-ORIGINAL-URL:https://blog.alandotchin.com
X-WR-CALDESC:Events for Alan Dotchin Blog
REFRESH-INTERVAL;VALUE=DURATION:PT1H
X-Robots-Tag:noindex
X-PUBLISHED-TTL:PT1H
BEGIN:VTIMEZONE
TZID:UTC
BEGIN:STANDARD
TZOFFSETFROM:+0000
TZOFFSETTO:+0000
TZNAME:UTC
DTSTART:20250101T000000
END:STANDARD
END:VTIMEZONE
BEGIN:VEVENT
DTSTART;TZID=UTC:20260103T190000
DTEND;TZID=UTC:20260103T210000
DTSTAMP:20260419T162617
CREATED:20250610T214648Z
LAST-MODIFIED:20260106T133801Z
UID:18670-1767466800-1767474000@blog.alandotchin.com
SUMMARY:Daft Funk Live (A Retrospective Celebration of Daft Punk Live)
DESCRIPTION:O2 City Hall \n \nWhen Daft Punk announced their disbandment in 2021 via a cryptic and cinematic video titled Epilogue\, it marked the end of a musical era. For over two decades\, the enigmatic French duo—Guy-Manuel de Homem-Christo and Thomas Bangalter—pushed the boundaries of electronic music\, creating a body of work that was as experimental as it was accessible. With albums like Homework\, Discovery\, and Random Access Memories\, they became global icons not just in music\, but in visual and conceptual art as well. One of the most lamented aspects of their departure was the fact that many fans would never get to experience a Daft Punk live performance\, something that had already become a rarity. \nThat’s where Daft Funk Live steps in—not just as a tribute act\, but as a retrospective celebration of Daft Punk’s legendary live shows. This isn’t just about nostalgia; it’s about preserving a cultural artifact. The duo behind Daft Funk Live have taken on the ambitious task of recreating\, reviving\, and celebrating the immersive world that Daft Punk built—one beat\, one helmet\, and one LED screen at a time. \nhttps://www.daftfunk.co.uk/
URL:https://blog.alandotchin.com/event/daft-funk-live-a-retrospective-celebration-of-daft-punk-live/
ATTACH;FMTTYPE=image/webp:https://blog.alandotchin.com/wp-content/uploads/2025/06/6e9a47d5-7278-48d8-bfb5-3f653b305bf1.webp
END:VEVENT
BEGIN:VEVENT
DTSTART;TZID=UTC:20260112T133000
DTEND;TZID=UTC:20260112T143000
DTSTAMP:20260419T162617
CREATED:20260113T113132Z
LAST-MODIFIED:20260113T120724Z
UID:35524-1768224600-1768228200@blog.alandotchin.com
SUMMARY:Rosmarino Italian Restaurant
DESCRIPTION:Rosmarino Italian Restaurant is a highly regarded Italian eatery in North Shields known for its warm\, cosy atmosphere and consistently excellent food. Locals and visitors alike praise its generous portions\, friendly service\, and great value\, with many highlighting standout pizza\, pasta and steak dishes alongside classic Italian starters and hearty mains. Reviewers frequently mention the welcoming staff and relaxed vibe\, making it a favourite for family meals\, date nights or casual dining\, and the restaurant also runs specials like early-bird menus and weekend deals. With an impressive 4.9-star rating and a reputation for tasty\, traditional Italian cuisine served with a smile\, Rosmarino has carved out a strong reputation in the local dining scene.
URL:https://blog.alandotchin.com/event/rosmarino-italian-restaurant/
ATTACH;FMTTYPE=image/webp:https://blog.alandotchin.com/wp-content/uploads/2026/01/DSC02484.webp
END:VEVENT
BEGIN:VEVENT
DTSTART;TZID=UTC:20260112T153000
DTEND;TZID=UTC:20260112T171000
DTSTAMP:20260419T162617
CREATED:20260113T120634Z
LAST-MODIFIED:20260113T121929Z
UID:35531-1768231800-1768237800@blog.alandotchin.com
SUMMARY:A Walk After the Final Cut
DESCRIPTION:Stepping out of Crew Gal in North Shields\, the walk towards West Monkseaton felt like a quiet decompression after the intensity of the previous six weeks. I had just come out of the exit meeting with Crew Gal\, marking the end of an immersive course in making a music video\, and my head was still buzzing with ideas\, feedback\, and a sense of achievement. As I followed the familiar streets and coastal air drifted in\, the rhythm of walking seemed to mirror the creative journey I’d just completed—periods of focus\, moments of doubt\, and ultimately progress. By the time I reached West Monkseaton Metro\, the walk had given me space to reflect\, reset\, and appreciate how much I’d learned\, not just about music videos\, but about my own creative process. \nhttps://maps.app.goo.gl/Qj9crJsDFLhGPQk4A
URL:https://blog.alandotchin.com/event/a-walk-after-the-final-cut/
ATTACH;FMTTYPE=image/jpeg:https://blog.alandotchin.com/wp-content/uploads/2026/01/2.jpg
END:VEVENT
BEGIN:VEVENT
DTSTART;TZID=UTC:20260116T100000
DTEND;TZID=UTC:20260116T160000
DTSTAMP:20260419T162617
CREATED:20260113T203750Z
LAST-MODIFIED:20260116T175949Z
UID:35536-1768557600-1768579200@blog.alandotchin.com
SUMMARY:Stepping Back in Time at Beamish
DESCRIPTION:Beamish is more than a museum; it’s a living snapshot of the North East’s past\, where history feels immediate and tangible. Walking through its recreated towns\, farms\, and pit villages\, you’re immersed in everyday life as it once was\, from the clatter of trams and the smell of coal fires to conversations with costumed staff who bring each era to life. There’s a quiet richness in the ordinary details—shops\, homes\, and workplaces—that tells the real story of how people lived\, worked\, and found community. A visit to Beamish isn’t just about seeing history\, but about experiencing it at a human pace\, making the past feel surprisingly
URL:https://blog.alandotchin.com/event/stepping-back-in-time-at-beamish/
ATTACH;FMTTYPE=image/jpeg:https://blog.alandotchin.com/wp-content/uploads/2026/01/The-1900s-Town-at-Beamish-Museum-1-scaled.jpg
END:VEVENT
BEGIN:VEVENT
DTSTART;TZID=UTC:20260129T193000
DTEND;TZID=UTC:20260129T213000
DTSTAMP:20260419T162617
CREATED:20251112T224038Z
LAST-MODIFIED:20251112T224038Z
UID:33791-1769715000-1769722200@blog.alandotchin.com
SUMMARY:An Evening with Damon Hill in Conversation with Tom Clarkson
DESCRIPTION:An Evening with Damon Hill hosted by Tom Clarkson.  \nThe 1996 FIA Formula 1 World Drivers’ Champion Damon Hill is one of the sport’s most respected figures\, remembered for his thrilling battles with Michael Schumacher and for partnering the late Ayrton Senna at Williams in 1994. \nIn conversation with Tom Clarkson – acclaimed host of the official F1 podcast Beyond The Grid – Damon will share stories from his remarkable Formula 1 journey\, from his unconventional late entry into the sport at 32 to becoming the first son of a champion to claim the title himself. \nHear first-hand what it was like to pilot those legendary Williams cars\, the inside stories from his battles with Schumacher\, and what it truly means to carry a champion’s name while forging your own path. \nBut this isn’t just a trip down memory lane. Damon will also turn his expert eye to the present\, reflecting on the dramatic 2025 season. What were the defining moments? Which drivers impressed him most? And as we lookahead to what promises to be another thrilling year in 2026\, what can we expect from the upcoming campaign? Plus\, he’ll be taking your questions – so come prepared to quiz one of F1’s most insightful voices. \nDamon remains a symbol of authenticity in motorsport\, proof that champions can be both fierce competitors and true gentlemen. Join us for an evening that celebrates both F1’s golden past and its exciting future.
URL:https://blog.alandotchin.com/event/an-evening-with-damon-hill-in-conversation-with-tom-clarkson/
ATTACH;FMTTYPE=image/jpeg:https://blog.alandotchin.com/wp-content/uploads/2025/11/DAMON-1200-x-882.jpg
END:VEVENT
BEGIN:VEVENT
DTSTART;VALUE=DATE:20260130
DTEND;VALUE=DATE:20260131
DTSTAMP:20260419T162617
CREATED:20260129T130732Z
LAST-MODIFIED:20260129T130732Z
UID:35759-1769731200-1769817599@blog.alandotchin.com
SUMMARY:The North East Land\, Sea and Air Museums
DESCRIPTION:The North East Land\, Sea and Air Museums in Sunderland is a fascinating volunteer-run heritage attraction that celebrates over a century of transport and military history on the historic site of the former RAF Usworth and Sunderland Airport. Open daily for visitors of all ages\, the museum brings together an extensive collection of aircraft\, military vehicles\, trams and other historic transport exhibits\, including iconic machines like a Cold War Avro Vulcan bomber and a Hawk T1 jet. The museum also features engaging displays such as a recreated World War II street scene and dedicated exhibits to local RAF squadrons\, offering an immersive insight into aviation\, land and sea heritage. With its mix of indoor hangars and outdoor displays\, educational experiences and special events throughout the year\, it’s a rewarding visit for history enthusiasts\, families and transport lovers alike.
URL:https://blog.alandotchin.com/event/the-north-east-land-sea-and-air-museums/
ATTACH;FMTTYPE=image/jpeg:https://blog.alandotchin.com/wp-content/uploads/2024/03/S58C6055-1.jpg
END:VEVENT
END:VCALENDAR