BEGIN:VCALENDAR
VERSION:2.0
PRODID:-//Alan Dotchin Blog - ECPv6.15.20//NONSGML v1.0//EN
CALSCALE:GREGORIAN
METHOD:PUBLISH
X-ORIGINAL-URL:https://blog.alandotchin.com
X-WR-CALDESC:Events for Alan Dotchin Blog
REFRESH-INTERVAL;VALUE=DURATION:PT1H
X-Robots-Tag:noindex
X-PUBLISHED-TTL:PT1H
BEGIN:VTIMEZONE
TZID:UTC
BEGIN:STANDARD
TZOFFSETFROM:+0000
TZOFFSETTO:+0000
TZNAME:UTC
DTSTART:20240101T000000
END:STANDARD
END:VTIMEZONE
BEGIN:VEVENT
DTSTART;TZID=UTC:20251003T193000
DTEND;TZID=UTC:20251003T213000
DTSTAMP:20260419T204109
CREATED:20250503T152400Z
LAST-MODIFIED:20250503T152400Z
UID:17622-1759519800-1759527000@blog.alandotchin.com
SUMMARY:Beethoven's Fifth Symphony
DESCRIPTION:Bold. Shocking. A slice of musical history.\nWho’s on stage\nThe ball of energy that is Nil Venditti\, the Principal Guest Conductor of our home band\, Royal Northern Sinfonia. Plus very special guest\, international pianist Boris Giltburg. \nWhat they’re playing\nChopin’s Second Piano Concerto. Somewhat confusingly written before his First. Go figure. Anyway\, a critic at the time described it as having an ‘abundance of original ideas of which the type is nowhere to be discovered’. Plus\, Beethoven’s iconic Symphony No. 5. \n\n\n\nWhat’s happening in the music?\n\n\n\n\n\n\nIt’s obvious that every piece of music had a first performance. But at the same time some pieces just seem to have been around forever\, and it’s hard to imagine the excitement that must have surrounded their first-ever outing. Beethoven’s Fifth Symphony (you know it: da da da daaaa) would likely have been pretty shocking for its first audience. Music that was this radical\, this unrelenting\, this euphoric\, just hadn’t been heard before. There’s no one like the charismatic Nil Venditti to make it seem like new either. \n 
URL:https://blog.alandotchin.com/event/beethovens-fifth-symphony/
ATTACH;FMTTYPE=image/jpeg:https://blog.alandotchin.com/wp-content/uploads/2025/05/240524-RNS-22-1-Nil-Maria-768x486-1.jpg
END:VEVENT
BEGIN:VEVENT
DTSTART;TZID=UTC:20251008T193000
DTEND;TZID=UTC:20251008T213000
DTSTAMP:20260419T204109
CREATED:20250413T141319Z
LAST-MODIFIED:20250413T141319Z
UID:17201-1759951800-1759959000@blog.alandotchin.com
SUMMARY:An Evening with Professor Alice Roberts
DESCRIPTION:AN EVENING WITH PROFESSOR ALICE ROBERTS\nDOMINATION – THE RISE AND FALL OF AN EMPIRE \nJoin Professor Alice Roberts as she takes us on an investigative journey to establish who spread Christianity\, how and why; the story of the fall of an Empire – and the rise of another. \nCelebrating the publication of her new book\, Domination\, the narrative will lead audiences from a secluded valley in South Wales to the shores of Brittany; from the heart of the Roman Empire in a time of political turmoil to the ancient city of Corinth in the footsteps of the apostle Paul; from Alexandria in the fourth century to Constantinople. \nAs the Roman Empire crumbled in Western Europe\, a shadow of power remained\, almost perfectly mapping onto its disappearing territories. And then\, it continued to spread. Unearthing the archaeological clues and challenging long-established histories\, Professor Roberts tells a remarkable story about the relationship between the Roman Empire and Christianity. \nLifting the veil on secrets that have been hidden in plain sight\, this story is nothing short of astonishing. \nDomination is a page-turning exploration of power and its survival\, and now you have the opportunity to hear more from the author in this exciting evening with Professor Alice Roberts.
URL:https://blog.alandotchin.com/event/an-evening-with-professor-alice-roberts/
CATEGORIES:Talks
ATTACH;FMTTYPE=image/jpeg:https://blog.alandotchin.com/wp-content/uploads/2025/03/alice-roberts-web.jpg
END:VEVENT
BEGIN:VEVENT
DTSTART;TZID=UTC:20251015T193000
DTEND;TZID=UTC:20251015T213000
DTSTAMP:20260419T204109
CREATED:20250512T120238Z
LAST-MODIFIED:20250512T120238Z
UID:17830-1760556600-1760563800@blog.alandotchin.com
SUMMARY:Mark Steel: The Leopard in my House
DESCRIPTION:“The consultant had told me he was confident I had throat cancer that had spread into the lymph glands. Joyfully\, I held his hand\, and looked up to the heavens like a South American footballer after scoring a goal. It was one of the happiest moments of my life.”  \nJoin multi award-winning\, BAFTA-nominated writer and comedian Mark Steel for his new tour ‘The Leopard in My House’. The topic? His battle with throat cancer. A battle he is winning (thankfully) and which only his rapier wit could fashion a comedy tour show out of. Cancer has done nothing to dull Mark’s acute political observations or quash his “frankly bonkers” energy: you will laugh\, you will cry\, but you’ll laugh again\, and again\, and again. The Leopard in My House is proof that this leftie\, working-class\, Radio 4 favourite truly deserves his place in the UK comedy pantheon. \nMark Steel is best known for his critically-acclaimed BBC Radio 4 show Mark Steel’s in Town (now in its 13th series)\, as well as his hit podcast What The F*** Is Going On…?. He has presented the BAFTA-nominated Mark Steel Lectures for BBC Two\, and is a regular on BBC One’s Have I Got News for You and BBC Radio 4’s The News Quiz. He has also written several acclaimed books\, including an adaptation of his critically acclaimed stand-up show Who Do I Think I Am? for Audible.
URL:https://blog.alandotchin.com/event/mark-steel-the-leopard-in-my-house/
ATTACH;FMTTYPE=image/jpeg:https://blog.alandotchin.com/wp-content/uploads/2025/05/mark-steel-web.jpg
END:VEVENT
BEGIN:VEVENT
DTSTART;TZID=UTC:20251020T193000
DTEND;TZID=UTC:20251020T213000
DTSTAMP:20260419T204109
CREATED:20250803T164546Z
LAST-MODIFIED:20250803T164546Z
UID:22121-1760988600-1760995800@blog.alandotchin.com
SUMMARY:An Evening with Mary Beard
DESCRIPTION:Step into the world of Ancient Rome with renowned historian Mary Beard as she uncovers the stories that history forgot. \nIn this captivating live event\, Mary Beard takes you beyond the well-worn paths of emperors and battles\, revealing the rich and complex lives of those often left out of the history books. \nFrom the gritty reality of a gladiator’s life in the arena to the tumultuous final days of the Roman Republic\, Mary rewrites popular narratives\, casting fresh light on what we think we know. \nAs the excitement built for the release of Gladiator 2\, there’s never been a better time to dive deeper into the world of Ancient Rome’s most iconic figures. But this isn’t just about the past—Mary draws thought-provoking connections between Roman politics and today’s world. What can we learn from the rise and fall of the Roman Republic\, and how might it resonate with the political landscapes we navigate today? \nDon’t miss the chance to ask your own questions as Mary Beard unpacks the history that shaped one of the greatest empires of all time. \nWhether you’re a history enthusiast or a curious newcomer\, this evening promises to be a spectacular journey through time\, leaving you with fresh insights into both ancient and modern worlds.
URL:https://blog.alandotchin.com/event/an-evening-with-mary-beard-2/
ATTACH;FMTTYPE=image/jpeg:https://blog.alandotchin.com/wp-content/uploads/2025/08/mary-beard-web.jpg
END:VEVENT
BEGIN:VEVENT
DTSTART;VALUE=DATE:20251024
DTEND;VALUE=DATE:20251025
DTSTAMP:20260419T204109
CREATED:20250818T102307Z
LAST-MODIFIED:20250915T095201Z
UID:24469-1761264000-1761350399@blog.alandotchin.com
SUMMARY:Whitby - Robin Hood's Bay Walk
DESCRIPTION:Robin Hood’s Bay Walk is a breathtaking coastal trail along the rugged Yorkshire coastline\, offering a mix of dramatic sea views\, rolling cliffs\, and charming village scenery. Starting from the historic fishing village of Robin Hood’s Bay\, with its narrow cobbled streets and quaint cottages\, the walk takes you across sections of the Cleveland Way\, where sweeping panoramas of the North Sea unfold at every turn. The route can lead you north towards Whitby or south towards Ravenscar\, each path rewarding walkers with stunning landscapes\, diverse wildlife\, and a sense of stepping back in time. Whether exploring the beach at low tide with its rock pools and fossil-rich cliffs\, or trekking along the cliff tops with the salty sea breeze\, the Robin Hood’s Bay Walk captures the essence of the Yorkshire coast’s natural beauty and historic charm.
URL:https://blog.alandotchin.com/event/whitby-robin-hoods-bay-walk/
ATTACH;FMTTYPE=image/jpeg:https://blog.alandotchin.com/wp-content/uploads/2024/04/Robin-Hoods-Bay-to-Whitby-14.jpg
END:VEVENT
BEGIN:VEVENT
DTSTART;VALUE=DATE:20251024
DTEND;VALUE=DATE:20251025
DTSTAMP:20260419T204109
CREATED:20250903T230704Z
LAST-MODIFIED:20250903T230704Z
UID:25106-1761264000-1761350399@blog.alandotchin.com
SUMMARY:Whitby
DESCRIPTION:Whitby is a historic seaside town on the northeast coast of England\, known for its dramatic cliffs\, sandy beaches\, and rich maritime heritage. Overlooked by the ruins of Whitby Abbey\, which inspired Bram Stoker’s Dracula\, the town has a unique charm that blends history\, culture\, and natural beauty. Its bustling harbour has long been associated with fishing and shipbuilding\, famously being the place where Captain James Cook began his seafaring career. Visitors are drawn to its narrow cobbled streets\, traditional fish and chip shops\, and the famous 199 steps leading up to the abbey. Whitby also hosts vibrant festivals\, including the Gothic Weekend\, which celebrates its literary connections and adds to the town’s distinctive character.
URL:https://blog.alandotchin.com/event/whitby/
ATTACH;FMTTYPE=image/jpeg:https://blog.alandotchin.com/wp-content/uploads/2025/08/whaling.jpg
END:VEVENT
BEGIN:VEVENT
DTSTART;VALUE=DATE:20251025
DTEND;VALUE=DATE:20251026
DTSTAMP:20260419T204109
CREATED:20250818T081434Z
LAST-MODIFIED:20250826T171821Z
UID:24464-1761350400-1761436799@blog.alandotchin.com
SUMMARY:Flying Scotsman Services
DESCRIPTION:25\, 26\, 27\, 28 & 29 October\, 1\, 2\, 3\, 4\, 5\, 8\, 9\, 10\, 11 & 12 November.\n\nEarly Online Booking Offer: Save 10% if you book before 31 August 2025. Multiple services are now fully booked – do not miss out\, book today! \n\nAs part of our Railway 200 celebrations\, don’t miss your chance to ride behind one of Britain’s icons from the golden age of steam. No. 60103 Flying Scotsman will be in action at the North Yorkshire Moors Railway between Grosmont and Pickering this late-autumn\, courtesy of the National Railway Museum and Northern Steam Operations Ltd. \nYour booking is for a seat-allocated return journey from Grosmont to Pickering behind Flying Scotsman. Other non-seat-allocated services between Pickering/Grosmont and Whitby\, hauled by different locomotives\, will be running on the date of your visit. You’re welcome to board these services with your Flying Scotsman ticket and explore the full length of our line if you wish. \nDiscounts are available for Groups of 20+ people. Please contact our Customer Services Team on grouptravel@nymr.co.uk for details.
URL:https://blog.alandotchin.com/event/whitby-robin-hoods-bay-walk-tbc/
ATTACH;FMTTYPE=image/jpeg:https://blog.alandotchin.com/wp-content/uploads/2025/08/cropped.jpg
END:VEVENT
BEGIN:VEVENT
DTSTART;VALUE=DATE:20251030
DTEND;VALUE=DATE:20251031
DTSTAMP:20260419T204109
CREATED:20251104T105033Z
LAST-MODIFIED:20251104T105033Z
UID:33334-1761782400-1761868799@blog.alandotchin.com
SUMMARY:Leeds City Museum: A Journey Through History\, Science\, and Culture
DESCRIPTION:Leeds City Museum stands as one of the most important cultural institutions in Leeds\, West Yorkshire. Situated in the heart of the city\, this dynamic and family-friendly museum offers a rich and immersive experience for visitors of all ages. With six galleries spanning natural history\, ancient civilisations\, world cultures\, local heritage\, and temporary exhibitions\, the museum serves as a gateway to understanding both the city’s past and the broader world beyond. Free to enter and open to all\, Leeds City Museum is a vital educational and cultural resource that reflects the diversity\, ambition\, and heritage of the city.
URL:https://blog.alandotchin.com/event/leeds-city-museum-a-journey-through-history-science-and-culture/
ATTACH;FMTTYPE=image/jpeg:https://blog.alandotchin.com/wp-content/uploads/2025/07/leeds-city-museum-1024x682-1.jpg
END:VEVENT
BEGIN:VEVENT
DTSTART;VALUE=DATE:20251030
DTEND;VALUE=DATE:20251031
DTSTAMP:20260419T204109
CREATED:20251104T170840Z
LAST-MODIFIED:20251104T170840Z
UID:33404-1761782400-1761868799@blog.alandotchin.com
SUMMARY:The Art Gallery: A Sanctuary of Culture\, Expression\, and Human Creativity
DESCRIPTION:An art gallery is more than just a building filled with paintings\, sculptures\, and visual artefacts—it is a space where human imagination\, emotion\, history\, and philosophy converge. Art galleries serve as custodians of cultural heritage\, incubators of creativity\, and sanctuaries for reflection and inspiration. Whether it’s a grand national gallery filled with centuries-old masterpieces or a small\, contemporary local space showcasing emerging talent\, the art gallery remains an essential institution within every society. \nRead More
URL:https://blog.alandotchin.com/event/the-art-gallery-a-sanctuary-of-culture-expression-and-human-creativity/
ATTACH;FMTTYPE=image/jpeg:https://blog.alandotchin.com/wp-content/uploads/2025/07/708a44d2136af8128839276083e0a476-1.jpg
END:VEVENT
BEGIN:VEVENT
DTSTART;VALUE=DATE:20251030
DTEND;VALUE=DATE:20251103
DTSTAMP:20260419T204109
CREATED:20250812T103948Z
LAST-MODIFIED:20251104T104409Z
UID:23191-1761782400-1762127999@blog.alandotchin.com
SUMMARY:Leeds
DESCRIPTION:Leeds is a vibrant and dynamic city located in West Yorkshire\, in the north of England. Once a powerhouse of the Industrial Revolution\, known especially for its textile and engineering industries\, Leeds has transformed into a modern cultural and commercial hub. It boasts a rich architectural heritage\, blending grand Victorian buildings with striking contemporary design. As the largest city in Yorkshire\, Leeds is home to world-class universities\, a thriving music and arts scene\, and a diverse population. Its compact city centre offers a mix of historic arcades\, bustling markets like Kirkgate Market\, lively nightlife\, and excellent shopping\, making it one of the most exciting urban destinations in the UK.
URL:https://blog.alandotchin.com/event/leeds-amadeus-concert-opera-north/
ATTACH;FMTTYPE=image/jpeg:https://blog.alandotchin.com/wp-content/uploads/2025/07/Leeds-Corn-Exchange-Credit-Stevie-Campbell-1-scaled-1.jpg
END:VEVENT
BEGIN:VEVENT
DTSTART;TZID=UTC:20251030T193000
DTEND;TZID=UTC:20251030T223000
DTSTAMP:20260419T204109
CREATED:20250612T185104Z
LAST-MODIFIED:20251104T104401Z
UID:18721-1761852600-1761863400@blog.alandotchin.com
SUMMARY:Amadeus Live in concert
DESCRIPTION:Experience the multi-Academy Award-winning film Amadeus with Mozart’s music performed live by the Orchestra and Chorus of Opera North. \nWinner of eight Academy Awards® including Best Picture\, Milos Foreman’s sumptuous Amadeus is an aural and visual treat for all the senses\, and a soaring celebrating of the music of Wolfgang Amadeus Mozart. It tells the story of envious fellow composer Antonio Salieri\, who has longed all his life for the divine musical gifts which the vulgar\, impish young Mozart possesses. Salieri’s envy fuels his plot to destroy Mozart\, while all the while unable to tear himself away from the genius of his music. \nhttps://www.operanorth.co.uk/whats-on/amadeus-live-in-concert/
URL:https://blog.alandotchin.com/event/amadeus-live-in-concert/
ATTACH;FMTTYPE=image/jpeg:https://blog.alandotchin.com/wp-content/uploads/2025/06/amadeusyetagain.jpg
END:VEVENT
BEGIN:VEVENT
DTSTART;VALUE=DATE:20251031
DTEND;VALUE=DATE:20251101
DTSTAMP:20260419T204109
CREATED:20250911T084550Z
LAST-MODIFIED:20251104T170942Z
UID:25726-1761868800-1761955199@blog.alandotchin.com
SUMMARY:Halifax
DESCRIPTION:Halifax is a historic town in West Yorkshire\, England\, known for its rich industrial heritage and striking architecture. Once a major hub of the wool and textile industries during the Industrial Revolution\, the town played a central role in shaping Britain’s manufacturing history. Today\, Halifax is celebrated for landmarks such as the Piece Hall\, an 18th-century cloth hall that has been transformed into a cultural and commercial center\, and the grand Halifax Minster\, which reflects its medieval past. The town combines a mix of old and new\, with Victorian buildings standing alongside modern developments\, and it remains a focal point for commerce\, education\, and tourism in the region. Its surrounding landscapes of rolling hills and valleys also make it a gateway to exploring the beauty of West Yorkshire.
URL:https://blog.alandotchin.com/event/halifax/
ATTACH;FMTTYPE=image/jpeg:https://blog.alandotchin.com/wp-content/uploads/2025/09/the-piece-hall.jpg
END:VEVENT
END:VCALENDAR