BEGIN:VCALENDAR
VERSION:2.0
PRODID:-//Alan Dotchin Blog - ECPv6.15.20//NONSGML v1.0//EN
CALSCALE:GREGORIAN
METHOD:PUBLISH
X-WR-CALNAME:Alan Dotchin Blog
X-ORIGINAL-URL:https://blog.alandotchin.com
X-WR-CALDESC:Events for Alan Dotchin Blog
REFRESH-INTERVAL;VALUE=DURATION:PT1H
X-Robots-Tag:noindex
X-PUBLISHED-TTL:PT1H
BEGIN:VTIMEZONE
TZID:UTC
BEGIN:STANDARD
TZOFFSETFROM:+0000
TZOFFSETTO:+0000
TZNAME:UTC
DTSTART:20230101T000000
END:STANDARD
END:VTIMEZONE
BEGIN:VEVENT
DTSTART;VALUE=DATE:20240826
DTEND;VALUE=DATE:20240827
DTSTAMP:20260421T023917
CREATED:20250413T162957Z
LAST-MODIFIED:20250413T162957Z
UID:17280-1724630400-1724716799@blog.alandotchin.com
SUMMARY:Lincoln Steampunk 2024
DESCRIPTION:Introduction \nThe Lincoln Steampunk Parade is a vibrant and imaginative celebration that brings the fantastical world of steampunk to life. Held annually in Lincoln\, England\, this event is a highlight of the steampunk calendar\, drawing enthusiasts from across the globe. Steampunk\, a genre and aesthetic inspired by Victorian-era science fiction and technology\, is characterized by its blend of historical settings with imaginative\, often anachronistic\, technology. The Lincoln Steampunk Parade stands as a testament to the creativity and community spirit of the steampunk movement\, showcasing elaborate costumes\, inventive machines\, and a sense of playful nostalgia. \nThe Steampunk Phenomenon \nSteampunk is a genre and subculture that emerged in the late 20th century\, combining elements of Victorian-era design with speculative fiction. It envisions a world where steam power is the primary source of technology and where the aesthetics of the 19th century are merged with futuristic innovations. This imaginative genre draws inspiration from authors such as Jules Verne and H.G. Wells\, who crafted tales of adventurous explorations and fantastical inventions set in a bygone era. \nThe appeal of steampunk lies in its rich visual and thematic elements. It celebrates the elegance of Victorian fashion\, the charm of retro-futuristic technology\, and the whimsy of alternate histories. Steampunk enthusiasts often engage in cosplay\, creating intricate costumes and props that reflect this unique blend of history and fantasy. The Lincoln Steampunk Parade is a manifestation of this creative expression\, providing a platform for participants to showcase their passion for the genre. \nThe Evolution of the Lincoln Steampunk Parade \nThe Lincoln Steampunk Parade began as a modest gathering of enthusiasts but has grown into a major event that attracts thousands of visitors each year. The parade is part of the larger Lincoln Steampunk Festival\, which includes a range of activities such as markets\, exhibitions\, workshops\, and performances. The festival celebrates all aspects of steampunk culture and provides a space for fans to immerse themselves in their favorite genre. \nThe parade itself is a focal point of the festival\, offering a dynamic and visually stunning display of steampunk creativity. Participants\, often dressed in elaborate costumes that incorporate Victorian fashion with imaginative elements like gears\, goggles\, and mechanical devices\, march through the streets of Lincoln\, creating a living tableau of steampunk aesthetics. The parade also features fantastical vehicles\, including steam-powered contraptions and retro-futuristic machines\, adding to the spectacle. \nCostumes and Creativity \nOne of the most striking features of the Lincoln Steampunk Parade is the elaborate costumes worn by participants. Steampunk fashion blends Victorian-era clothing with imaginative accessories and designs. Participants might don top hats\, corsets\, waistcoats\, and flowing skirts\, all adorned with gears\, cogs\, and other mechanical elements. The attention to detail in these costumes is remarkable\, with many participants spending months crafting their outfits to perfection. \nThe creativity extends beyond clothing to include a wide array of props and accessories. Participants often carry intricately designed gadgets\, such as ray guns\, steam-powered weapons\, and mechanical limbs. These props not only enhance the visual appeal of the parade but also serve as a nod to the speculative fiction that inspires steampunk. \nThe parade also features a range of fantastical vehicles and floats. These creations often resemble Victorian inventions brought to life\, with steam engines\, airships\, and other imaginative machines taking center stage. The ingenuity of these vehicles reflects the spirit of steampunk\, where technology is reimagined in whimsical and inventive ways. \nCommunity and Inclusivity \nThe Lincoln Steampunk Parade is not just a celebration of individual creativity but also a reflection of the strong sense of community within the steampunk movement. The parade brings together people from diverse backgrounds who share a common passion for the genre. This sense of camaraderie is evident in the way participants collaborate on costumes\, props\, and floats\, often working together to create larger and more elaborate displays. \nThe inclusivity of the event is also noteworthy. The steampunk community is known for its welcoming and supportive atmosphere\, and this is reflected in the parade. Enthusiasts of all ages and backgrounds are encouraged to participate\, and the event provides a platform for people to express their creativity and imagination. \nThe Impact on Lincoln and Beyond \nThe Lincoln Steampunk Parade has a significant impact on the local community and the broader cultural landscape. For Lincoln\, the parade and the associated festival bring a substantial influx of visitors to the city. This boost to the local economy benefits businesses\, hotels\, and restaurants\, contributing to the city’s economic vitality. \nBeyond its economic impact\, the parade also enhances Lincoln’s cultural profile. The city’s historic architecture and streets provide a picturesque backdrop for the parade\, creating a harmonious blend of past and present. The event highlights Lincoln’s role as a hub for creative and cultural activities\, attracting attention from media and tourists alike. \nThe influence of the Lincoln Steampunk Parade extends beyond the city itself. The event serves as a model for other steampunk gatherings and festivals\, demonstrating how creativity and community spirit can be harnessed to create memorable and engaging experiences. The success of the parade has inspired similar events in other cities\, contributing to the growth of the steampunk movement on a global scale. \nEducational and Inspirational Aspects \nThe Lincoln Steampunk Parade also offers educational and inspirational opportunities. The festival includes workshops and presentations where participants can learn about various aspects of steampunk culture\, from costume design to mechanical engineering. These educational components provide insights into the skills and techniques used in creating steampunk art and technology. \nThe parade and festival inspire creativity and innovation. By showcasing a wide range of artistic and technical skills\, the event encourages participants to explore their own creative potential. The imaginative nature of steampunk provides a platform for individuals to experiment with design\, storytelling\, and craftsmanship\, fostering a sense of artistic exploration and discovery. \nChallenges and Future Directions \nWhile the Lincoln Steampunk Parade is celebrated for its creativity and community spirit\, it also faces challenges. Organizing a large-scale event requires careful planning and coordination\, and ensuring the safety and enjoyment of all participants is a priority. Additionally\, maintaining the quality and uniqueness of the parade while accommodating a growing number of visitors can be challenging. \nLooking to the future\, the Lincoln Steampunk Parade is likely to continue evolving. The steampunk movement itself is dynamic and constantly changing\, with new trends and ideas emerging regularly. The parade will need to adapt to these changes while staying true to the core values of creativity and imagination that define steampunk. \nConclusion \nThe Lincoln Steampunk Parade is a vibrant and imaginative celebration that brings the world of steampunk to life. Through its elaborate costumes\, fantastical vehicles\, and community spirit\, the parade offers a unique glimpse into the creative and speculative world of steampunk. The event not only highlights the artistic and technical achievements of its participants but also contributes to the cultural and economic vitality of Lincoln. \nAs a focal point of the steampunk calendar\, the Lincoln Steampunk Parade exemplifies the fusion of history\, imagination\, and community. It stands as a testament to the enduring appeal of steampunk and its ability to inspire and engage people from all walks of life. The parade’s continued success and growth reflect the creativity and enthusiasm of the steampunk community and its capacity to bring people together in celebration of a shared passion.
URL:https://blog.alandotchin.com/event/lincoln-steampunk-2024/
CATEGORIES:Carnivals & Festivals
ATTACH;FMTTYPE=image/webp:https://blog.alandotchin.com/wp-content/uploads/2024/09/1693308798Steampunk-Parade-Bailgate-28-08-2023-SS-2077.webp
END:VEVENT
BEGIN:VEVENT
DTSTART;TZID=UTC:20240601T080000
DTEND;TZID=UTC:20240602T170000
DTSTAMP:20260421T023917
CREATED:20250812T113143Z
LAST-MODIFIED:20250812T113143Z
UID:23209-1717228800-1717347600@blog.alandotchin.com
SUMMARY:Duxford Air Show
DESCRIPTION:The IWM Duxford Air Show is a thrilling celebration of aviation history and skill\, held at the iconic former RAF station in Cambridgeshire. Drawing crowds from across the UK and beyond\, the event showcases an incredible variety of aircraft\, from graceful vintage biplanes and World War II legends like the Spitfire and Lancaster\, to cutting-edge modern jets. Each display is expertly choreographed\, with pilots demonstrating breathtaking aerobatics\, formation flying\, and precision manoeuvres. Alongside the aerial action\, visitors can explore IWM Duxford’s extensive museum exhibits\, meet pilots\, and enjoy a lively festival atmosphere filled with food stalls\, traders\, and family activities. It’s a spectacular experience that combines heritage\, engineering marvels\, and the raw excitement of flight.
URL:https://blog.alandotchin.com/event/duxford-air-show/
ATTACH;FMTTYPE=image/jpeg:https://blog.alandotchin.com/wp-content/uploads/2025/08/ve-teaser-IWM_2024_018_0103.jpg
END:VEVENT
BEGIN:VEVENT
DTSTART;VALUE=DATE:20240531
DTEND;VALUE=DATE:20240604
DTSTAMP:20260421T023917
CREATED:20250812T112916Z
LAST-MODIFIED:20250923T113438Z
UID:23206-1717113600-1717459199@blog.alandotchin.com
SUMMARY:Cambridge
DESCRIPTION:Cambridge is a historic and picturesque city in eastern England\, renowned for its world-famous university\, the University of Cambridge\, established in 1209. The city is steeped in academic tradition\, with beautiful college buildings\, libraries\, and chapels that reflect centuries of scholarly excellence. The River Cam flows through the heart of Cambridge\, where punting along its tranquil waters offers scenic views of the “Backs” — the gardens and architecture of several colleges. In addition to its academic prestige\, Cambridge is a vibrant city with museums\, theatres\, cafes\, and a thriving tech industry\, often referred to as the “Silicon Fen.” Its blend of rich history\, innovation\, and natural beauty makes Cambridge a unique and inspiring place to visit or live.
URL:https://blog.alandotchin.com/event/cambridge/
CATEGORIES:Travel
ATTACH;FMTTYPE=image/webp:https://blog.alandotchin.com/wp-content/uploads/2025/08/cambridge.webp
END:VEVENT
END:VCALENDAR