BEGIN:VCALENDAR
VERSION:2.0
PRODID:-//Alan Dotchin Blog - ECPv6.15.20//NONSGML v1.0//EN
CALSCALE:GREGORIAN
METHOD:PUBLISH
X-WR-CALNAME:Alan Dotchin Blog
X-ORIGINAL-URL:https://blog.alandotchin.com
X-WR-CALDESC:Events for Alan Dotchin Blog
REFRESH-INTERVAL;VALUE=DURATION:PT1H
X-Robots-Tag:noindex
X-PUBLISHED-TTL:PT1H
BEGIN:VTIMEZONE
TZID:UTC
BEGIN:STANDARD
TZOFFSETFROM:+0000
TZOFFSETTO:+0000
TZNAME:UTC
DTSTART:20240101T000000
END:STANDARD
END:VTIMEZONE
BEGIN:VEVENT
DTSTART;VALUE=DATE:20250510
DTEND;VALUE=DATE:20250511
DTSTAMP:20260422T111228
CREATED:20250812T105029Z
LAST-MODIFIED:20250812T105029Z
UID:23199-1746835200-1746921599@blog.alandotchin.com
SUMMARY:York
DESCRIPTION:York is a historic city in the north of England\, renowned for its rich heritage\, medieval architecture\, and well-preserved ancient walls. Founded by the Romans in 71 AD as Eboracum\, York later became a key Viking settlement known as Jorvik\, and its diverse past is still evident in its narrow cobbled streets and archaeological sites. The city’s most iconic landmark is York Minster\, one of the largest Gothic cathedrals in Northern Europe\, featuring stunning stained glass and intricate stonework. York’s Shambles\, a picturesque medieval street with overhanging timber-framed buildings\, is a popular attraction\, drawing visitors from around the world. Today\, York seamlessly blends its historical charm with modern culture\, offering museums\, shops\, cafes\, and festivals throughout the year.
URL:https://blog.alandotchin.com/event/york/
CATEGORIES:Travel
ATTACH;FMTTYPE=image/jpeg:https://blog.alandotchin.com/wp-content/uploads/2025/08/The-city-of-York.jpg
END:VEVENT
END:VCALENDAR