BEGIN:VCALENDAR
VERSION:2.0
PRODID:-//Alan Dotchin Blog - ECPv6.15.20//NONSGML v1.0//EN
CALSCALE:GREGORIAN
METHOD:PUBLISH
X-ORIGINAL-URL:https://blog.alandotchin.com
X-WR-CALDESC:Events for Alan Dotchin Blog
REFRESH-INTERVAL;VALUE=DURATION:PT1H
X-Robots-Tag:noindex
X-PUBLISHED-TTL:PT1H
BEGIN:VTIMEZONE
TZID:UTC
BEGIN:STANDARD
TZOFFSETFROM:+0000
TZOFFSETTO:+0000
TZNAME:UTC
DTSTART:20240101T000000
END:STANDARD
END:VTIMEZONE
BEGIN:VEVENT
DTSTART;TZID=UTC:20250918T193000
DTEND;TZID=UTC:20250918T213000
DTSTAMP:20260419T140011
CREATED:20250413T141908Z
LAST-MODIFIED:20250413T141908Z
UID:17203-1758223800-1758231000@blog.alandotchin.com
SUMMARY:War Horse: The Theatrical Spectacle That Captivated Audiences
DESCRIPTION:Introduction\nWar Horse is one of the most critically acclaimed and visually stunning theatrical productions of the 21st century. Adapted from Michael Morpurgo’s 1982 novel of the same name\, the play brings to life an emotional and gripping tale set during World War I. The production is celebrated for its innovative use of puppetry\, breathtaking staging\, and powerful storytelling\, making it one of the National Theatre’s most successful and widely toured productions. \nOrigins and Adaptation\nMichael Morpurgo’s War Horse was originally written as a children’s novel\, telling the story of Joey\, a horse sold to the cavalry and thrust into the chaos of World War I\, and Albert\, his devoted young owner who embarks on a perilous journey to bring Joey home. The book’s unique perspective\, narrated through the eyes of Joey\, created an emotional connection between the reader and the protagonist\, setting the stage for an ambitious and emotionally charged theatrical adaptation. \nIn 2007\, the National Theatre in London premiered War Horse\, adapted by Nick Stafford. Directed by Marianne Elliott and Tom Morris\, the play took on a challenge rarely seen in theatre—bringing an animal protagonist to life in a compelling and believable manner. The solution came in the form of groundbreaking puppetry developed by Handspring Puppet Company\, a South African theatre company known for its innovative work with life-sized puppets. \nThe Use of Puppetry\nOne of the most revolutionary aspects of War Horse is its masterful use of puppetry to bring the horses to life. Joey and other horses\, including the formidable warhorse Topthorn\, are portrayed by large-scale puppets operated by three actors each—one controlling the head\, one the heart\, and one the hind. This intricate coordination gives the horses realistic movement\, breathing\, and even emotional expression. \nThe puppetry is so effective that audiences quickly suspend disbelief and accept the puppets as living\, breathing creatures. The operators’ precise movements capture the subtleties of equine behavior\, from the flick of an ear to the shift of weight in response to a rider. This innovation earned War Horse widespread acclaim and helped redefine the use of puppetry in theatre\, setting a new standard for visual storytelling. \nThe Theatrical Experience\nThe stage design of War Horse is both minimalist and evocative. Rae Smith’s scenic and costume design\, along with Paule Constable’s lighting\, creates a dynamic atmosphere that shifts seamlessly between the pastoral beauty of Devon and the brutal landscapes of war-torn France. The use of projection screens\, drawn in chalk-like animation\, further enhances the visual storytelling\, illustrating battle scenes\, maps\, and letters. \nAnother key element of War Horse is its musical score and sound design. Adrian Sutton’s hauntingly beautiful score\, combined with folk songs performed live on stage\, adds an emotional depth to the production. The sound design\, by Christopher Shutt\, immerses the audience in the chaos of battle\, the roar of charging horses\, and the distant echoes of home\, making the experience both visceral and deeply moving. \nThemes and Emotional Impact\nAt its heart\, War Horse is a story of love\, loyalty\, and resilience. It explores the deep bond between humans and animals\, as well as the harrowing realities of war. Through Joey’s journey\, the audience witnesses the indiscriminate devastation of war\, where both sides experience loss and suffering. The play does not glorify war but instead highlights its impact on individuals\, families\, and even animals forced into service. \nOne of the most powerful aspects of the play is its ability to evoke empathy. The audience becomes emotionally invested in Joey’s fate\, feeling his fear\, pain\, and moments of hope. The human characters\, particularly Albert\, reflect universal themes of perseverance and love\, making their struggles deeply relatable. \nCritical Reception and Awards\nFrom its debut\, War Horse received overwhelming praise from critics and audiences alike. It won multiple awards\, including the Laurence Olivier Award for Best Set Design\, the Tony Award for Best Play\, and several Drama Desk Awards. The production’s success led to international tours\, West End and Broadway transfers\, and performances in countries such as Australia\, Germany\, and China. \nCritics lauded the play for its emotional depth\, technical brilliance\, and innovative use of puppetry. The New York Times described it as “a landmark theatrical event\,” while The Guardian praised it as “an extraordinary piece of theatre that will make you weep for joy and sorrow.” \nGlobal Tours and Adaptations\nFollowing its immense success in London\, War Horse transferred to Broadway in 2011\, where it continued to receive standing ovations and critical acclaim. Subsequent international tours brought the production to a global audience\, further cementing its legacy as one of the most important theatrical works of recent times. \nThe play’s influence extended beyond the stage. In 2011\, Steven Spielberg directed a film adaptation of War Horse\, which\, while taking a more cinematic approach\, retained the emotional core of the story. Though different in execution\, the film brought further attention to the stage play\, leading to renewed interest and additional tours. \nThe Legacy of War Horse\nEven years after its premiere\, War Horse continues to be performed and celebrated worldwide. The National Theatre has periodically revived the production\, and its impact on theatrical storytelling remains profound. The play has inspired new generations of theatre-makers to explore the possibilities of puppetry and immersive storytelling in ways previously unseen on mainstream stages. \nThe success of War Horse also highlights the power of theatre to tell universal stories. Despite being set during World War I\, its themes of love\, loss\, and survival resonate with audiences of all ages and backgrounds. The show’s ability to evoke raw emotion through a combination of stunning visuals\, sound\, and masterful puppetry ensures its place in the pantheon of great theatrical achievements. \nConclusion\nWar Horse is more than just a play—it is a transformative theatrical experience. From its groundbreaking use of puppetry to its poignant storytelling\, the production has redefined what is possible in theatre. Whether seen on the West End\, Broadway\, or an international tour\, War Horse continues to captivate and move audiences\, leaving a lasting impression on all who witness its magic. Its legacy as one of the most important and innovative productions of the modern era is assured\, standing as a testament to the enduring power of theatre.
URL:https://blog.alandotchin.com/event/war-horse-the-theatrical-spectacle-that-captivated-audiences/
CATEGORIES:Theatre
ATTACH;FMTTYPE=image/jpeg:https://blog.alandotchin.com/wp-content/uploads/2025/02/WarHorse_Prod_1920x1080.jpg
END:VEVENT
BEGIN:VEVENT
DTSTART;TZID=UTC:20250306T190000
DTEND;TZID=UTC:20250306T214500
DTSTAMP:20260419T140011
CREATED:20250413T155153Z
LAST-MODIFIED:20250413T155153Z
UID:17258-1741287600-1741297500@blog.alandotchin.com
SUMMARY:The Magic Flute: An Opera of Mystery\, Symbolism\, and Enlightenment
DESCRIPTION:Introduction\nWolfgang Amadeus Mozart’s The Magic Flute (Die Zauberflöte) remains one of the most beloved and frequently performed operas in the world. Premiering on September 30\, 1791\, at the Freihaus-Theater auf der Wieden in Vienna\, the opera is a masterful blend of fairy tale fantasy\, Masonic symbolism\, and philosophical enlightenment. With a libretto by Emanuel Schikaneder\, The Magic Flute continues to captivate audiences with its intricate musical compositions\, rich allegory\, and engaging characters. \nHistorical Context and Creation\nMozart composed The Magic Flute during the final year of his life\, a period marked by financial struggles\, declining health\, and professional setbacks. The opera was written in collaboration with Schikaneder\, who was both the librettist and the impresario of the theater where it premiered. Schikaneder\, himself a member of the Freemasons\, infused the opera with significant Masonic themes\, which aligned with Mozart’s own deep involvement in the Freemasonry movement in Vienna. \nDespite Mozart’s struggles\, The Magic Flute was an immediate success\, attracting large audiences who appreciated both its entertainment value and its deeper philosophical messages. The work’s popularity only grew after Mozart’s death\, cementing its place as one of the greatest operatic masterpieces. \nPlot Summary\nThe Magic Flute is structured as a Singspiel\, a form of German opera that incorporates both spoken dialogue and musical numbers. The story follows Prince Tamino\, who embarks on a quest to rescue Pamina\, the daughter of the Queen of the Night\, from the supposedly evil sorcerer Sarastro. Accompanied by the comical bird-catcher Papageno\, Tamino undergoes a series of trials to prove his worth and ultimately discovers that Sarastro is not an antagonist but a noble leader of a brotherhood dedicated to wisdom and enlightenment. \nSome of the opera’s key moments include: \n\nTamino’s Quest: Guided by three spirits\, Tamino sets out to save Pamina\, armed with a magical flute that has the power to alter emotions and influence nature.\nPapageno’s Trials: Papageno\, though less heroic than Tamino\, also seeks love and companionship. His character provides comic relief but also undergoes a journey of personal growth.\nThe Queen of the Night’s Rage: One of the most famous arias in operatic history\, Der Hölle Rache kocht in meinem Herzen (Hell’s vengeance boils in my heart)\, is sung by the Queen of the Night\, revealing her true nature and desire for vengeance.\nThe Final Trials: Tamino and Pamina must endure tests of silence\, fire\, and water before achieving enlightenment and union.\n\nBy the end of the opera\, light triumphs over darkness\, with Sarastro and his brotherhood representing wisdom and the Queen of the Night embodying chaos and manipulation. \nThemes and Symbolism\nThe Magic Flute is laden with Masonic symbolism and Enlightenment ideals\, reflecting the intellectual currents of Mozart’s time. Some of the major themes include: \n\nGood vs. Evil: The apparent binary opposition between Sarastro and the Queen of the Night is initially misleading\, encouraging the audience to question appearances and seek deeper truth.\nEnlightenment and Reason: The trials that Tamino and Pamina undergo symbolize the pursuit of wisdom and rationality over superstition and ignorance.\nFreemasonry: Many elements of the opera\, such as the number three (three ladies\, three spirits\, three trials)\, Masonic rituals\, and the emphasis on brotherhood\, reflect Freemasonic beliefs in self-improvement\, virtue\, and the quest for enlightenment.\nMusic as a Transformative Force: The magic flute itself serves as a metaphor for the power of art and music to transcend barriers\, bring harmony\, and guide individuals toward truth.\n\nMusical Highlights\nMozart’s The Magic Flute contains some of his most innovative and expressive compositions\, blending different musical styles to serve both the dramatic and comedic elements of the opera. \n\nTamino’s Aria (“Dies Bildnis ist bezaubernd schön”) – This aria expresses the prince’s love for Pamina and is a defining moment of his character.\nThe Queen of the Night’s Aria (“Der Hölle Rache kocht in meinem Herzen”) – This virtuoso piece requires a soprano with exceptional range and agility\, making it one of the most demanding arias in opera.\nPapageno’s Duet (“Pa-Pa-Pa”) – A delightful\, humorous duet between Papageno and his eventual partner\, Papagena\, which provides comic relief and a joyful conclusion for their subplot.\nFinal Chorus (“Heil sei euch Geweihten!”) – A grand musical statement celebrating enlightenment\, wisdom\, and triumph over darkness.\n\nThe Legacy of The Magic Flute\nThe Magic Flute has endured as a staple of opera houses around the world\, adapted into various languages and artistic interpretations. Its themes of personal growth\, enlightenment\, and the power of love continue to resonate with audiences of all ages. The opera’s accessibility\, with its combination of serious philosophical themes and lighthearted comedy\, ensures its appeal to both seasoned opera-goers and newcomers. \nThe opera has also been the subject of numerous scholarly analyses\, particularly regarding its Masonic connections\, feminist interpretations of Pamina’s journey\, and its influence on later composers and works. Directors often bring new visions to the production\, incorporating modern staging\, visual effects\, and creative interpretations that highlight different aspects of the opera’s multifaceted nature. \nConclusion\nMozart’s The Magic Flute remains a timeless masterpiece\, blending humor\, drama\, philosophy\, and some of the most exquisite music ever composed. Its story of love\, enlightenment\, and the triumph of good over evil continues to inspire and captivate audiences worldwide. Whether appreciated for its musical brilliance\, its intricate symbolism\, or its sheer theatrical magic\, The Magic Flute stands as a testament to Mozart’s genius and his enduring influence on the world of opera. \n\n\n \n\n\n\n\n \n\n\n\n\n \n\n\n\n\nShare the loveShare this content\n\nOpens in a new window\nOpens in a new window\nOpens in a new window\n 
URL:https://blog.alandotchin.com/event/the-magic-flute-an-opera-of-mystery-symbolism-and-enlightenment/
CATEGORIES:Opera
ATTACH;FMTTYPE=image/jpeg:https://blog.alandotchin.com/wp-content/uploads/2025/02/the-magic-flute-lite.jpg
END:VEVENT
BEGIN:VEVENT
DTSTART;TZID=UTC:20250301T193000
DTEND;TZID=UTC:20250301T213000
DTSTAMP:20260419T140011
CREATED:20250413T160423Z
LAST-MODIFIED:20250413T160423Z
UID:17262-1740857400-1740864600@blog.alandotchin.com
SUMMARY:Shen Yun: Reviving 5\,000 Years of Chinese Civilization
DESCRIPTION:Introduction\nShen Yun is a world-renowned performing arts company dedicated to reviving the rich cultural and artistic traditions of ancient China. Founded in 2006\, the company has captivated audiences worldwide with its breathtaking performances\, which blend classical Chinese dance\, elaborate costumes\, an orchestral fusion of Eastern and Western music\, and stunning digital backdrops. Through its vibrant storytelling\, Shen Yun seeks to present a China before communism—a land of deep spirituality\, heroic legends\, and profound wisdom. \nOrigins and Mission\nShen Yun Performing Arts was established in New York by a group of Chinese artists who sought to escape the suppression of traditional culture in modern China. Their mission is to use dance and music to share China’s divine heritage\, bringing ancient legends and historical stories to life on stage. Since its inception\, Shen Yun has grown into a global phenomenon\, touring over 100 cities annually\, with multiple production companies performing simultaneously across different continents. \nThe Art of Classical Chinese Dance\nAt the heart of Shen Yun’s performances is classical Chinese dance\, a highly expressive and technically demanding art form with roots stretching back thousands of years. Unlike modern ballet or contemporary dance\, classical Chinese dance incorporates intricate movements\, breathtaking flips\, and unique postures that reflect the elegance and strength of traditional Chinese aesthetics. The performers undergo rigorous training to master these techniques\, ensuring that each movement is imbued with meaning and grace. \nStorytelling Through Dance\nOne of the hallmarks of Shen Yun is its ability to tell compelling stories through dance. Each performance consists of short pieces that depict legendary figures\, historical moments\, and folk traditions. These narratives draw from China’s vast cultural reservoir\, featuring tales of heroism\, loyalty\, and divine intervention. Some of the most popular pieces include: \n\nThe Monkey King’s Journey to the West – A retelling of the classic novel about the mischievous yet virtuous Monkey King’s quest for enlightenment.\nMulan – The story of a courageous young woman who disguises herself as a man to take her father’s place in battle.\nTales of Ancient Dynasties – Stories set in the Tang\, Song\, and Ming dynasties\, showcasing the grandeur and refinement of their respective eras.\n\nThe Shen Yun Orchestra: A Fusion of East and West\nMusic plays an integral role in Shen Yun’s performances\, and the company boasts a full orchestra that blends classical Western instruments with traditional Chinese instruments. This fusion creates a unique sound that enhances the storytelling experience. Some of the key instruments used in the Shen Yun orchestra include: \n\nErhu – A two-stringed instrument known for its deeply expressive and melancholic tones.\nPipa – A four-stringed lute that adds a bright\, percussive quality to the music.\nGuzheng – A plucked zither that creates flowing\, ethereal melodies.\nWestern Strings\, Brass\, and Percussion – Used to add grandeur and cinematic depth to the compositions.\n\nThe result is a sound that seamlessly intertwines the majesty of a symphony orchestra with the delicate elegance of ancient Chinese melodies\, creating a rich auditory experience for the audience. \nCostumes and Stage Design\nShen Yun’s performances are visually stunning\, thanks in large part to their meticulously crafted costumes and groundbreaking digital backdrops. Each costume is designed to authentically reflect the styles of China’s various dynasties\, ethnic groups\, and historical periods. These elaborate outfits\, made with silk and embroidered with intricate patterns\, add depth and authenticity to the storytelling. \nThe backdrops\, meanwhile\, are digitally animated projections that extend the stage into mythical landscapes\, imperial palaces\, and celestial realms. This innovative use of technology allows dancers to seamlessly transition between the stage and digital realms\, creating breathtaking moments where performers appear to leap into the sky or emerge from celestial palaces. \nSpiritual and Philosophical Themes\nShen Yun is unique among performing arts groups because it incorporates spiritual and philosophical themes into its performances. The company’s storytelling often highlights the principles of Falun Dafa (Falun Gong)—a spiritual practice rooted in traditional Chinese beliefs that emphasizes truthfulness\, compassion\, and tolerance. Many of Shen Yun’s pieces depict the persecution of Falun Gong practitioners in modern China\, aiming to raise awareness of human rights issues and the struggle to preserve cultural heritage. \nThe underlying themes of Shen Yun’s performances go beyond political statements; they also explore broader ideas of morality\, divine intervention\, and the connection between humans and the cosmos. Through their artistry\, the performers seek to inspire audiences with a sense of hope\, renewal\, and reverence for traditional values. \nGlobal Impact and Reception\nSince its debut\, Shen Yun has performed in some of the world’s most prestigious venues\, including: \n\nLincoln Center in New York City\nThe Royal Festival Hall in London\nThe Palais des Congrès in Paris\nThe Kennedy Center in Washington\, D.C.\n\nAudiences around the world have praised Shen Yun for its breathtaking visuals\, extraordinary skill\, and deep cultural significance. Many viewers describe the experience as profoundly moving and spiritually uplifting\, often leaving them with a newfound appreciation for Chinese heritage and traditional values. \nDespite its widespread acclaim\, Shen Yun remains controversial in China\, where the government censors performances and blocks access to promotional material. Due to its ties to Falun Gong\, Shen Yun is not allowed to perform in China\, making its mission of preserving ancient traditions even more significant. \nShen Yun’s Annual Tours\nOne of the unique aspects of Shen Yun is that its performances change every year. Each season brings new choreography\, new stories\, and new music\, ensuring that audiences who return annually experience something fresh and exciting. The company’s tours cover North America\, Europe\, Asia\, and Australia\, reaching millions of people with its powerful message of cultural revival. \nShen Yun in the UK\nShen Yun has a strong following in the United Kingdom\, regularly performing in cities like London\, Birmingham\, Edinburgh\, and Manchester. The UK tour typically takes place in the early months of the year\, with tickets often selling out well in advance. Audiences in the UK appreciate Shen Yun’s artistry\, as well as its dedication to promoting cultural diversity and artistic excellence. \nConclusion\nShen Yun is more than just a dance performance; it is a cultural movement aimed at reviving the lost traditions of ancient China and sharing them with the world. Through the power of classical Chinese dance\, orchestral music\, and stunning visual effects\, Shen Yun offers audiences a glimpse into a world of beauty\, wisdom\, and divine inspiration. Whether one is drawn to the performances for their artistic mastery\, historical storytelling\, or spiritual depth\, Shen Yun remains a truly unique and unforgettable experience that continues to inspire people across the globe. \n\n\n \n\n\nAuthor’s Notes\nShen Yun Review – A Disappointing Experience\nI was very disappointed with Shen Yun. Normally\, I do my research before booking an event\, but on this occasion\, I relied on vague memories from years ago when I first heard about it. I had considered taking my mother\, and it had always been on my bucket list. Unfortunately\, it did not live up to expectations. \nThe graphics were cringe-worthy. At the back of the stage\, there were some steps\, and the actors would occasionally step off and then be transported onto a large screen. The execution felt clumsy and outdated rather than seamless or innovative. \nOne aspect that particularly disturbed me was the subliminal messaging. Phrases like “Atheism\, Evolution is the sign of Satan” appeared\, which really summed up the underlying tone of the show. It felt more like propaganda than a cultural performance. There was even a touch of Scientology in the messaging\, making it uncomfortable to sit through. \nWhile the performance was colorful and physically demanding\, the storytelling was repetitive and\, at times\, childlike. It lacked depth and variation\, making it tedious rather than engaging. \nWhat really annoyed me was the sound system. Despite having a live orchestra\, the volume from the loudspeakers made me question whether the music was actually live or just a recording. The synchronization felt off at times\, leading me to suspect that the orchestra was merely miming along to pre-recorded tracks. \nOverall\, Shen Yun was a major letdown. I expected a breathtaking cultural experience\, but instead\, I got something that felt like a mix of outdated visuals\, heavy-handed messaging\, and questionable production choices. I wouldn’t recommend it. \nReviews\nhttps://www.spectator.co.uk/article/not-an-experience-youd-want-to-repeat-shen-yun-at-the-eventim-apollo-reviewed \nhttps://www.tripadvisor.co.uk/Attraction_Review-g186338-d32748845-Reviews-or10-Shen_Yun_Uk-London_England.html \nHonest Opinions on Shen-Yun
URL:https://blog.alandotchin.com/event/shen-yun-reviving-5000-years-of-chinese-civilization/
CATEGORIES:Theatre
ATTACH;FMTTYPE=image/jpeg:https://blog.alandotchin.com/wp-content/uploads/2025/02/slideshow-thumb-2.e0c491bce1e38a26c67d.jpg
END:VEVENT
END:VCALENDAR