BEGIN:VCALENDAR
VERSION:2.0
PRODID:-//Alan Dotchin Blog - ECPv6.15.20//NONSGML v1.0//EN
CALSCALE:GREGORIAN
METHOD:PUBLISH
X-ORIGINAL-URL:https://blog.alandotchin.com
X-WR-CALDESC:Events for Alan Dotchin Blog
REFRESH-INTERVAL;VALUE=DURATION:PT1H
X-Robots-Tag:noindex
X-PUBLISHED-TTL:PT1H
BEGIN:VTIMEZONE
TZID:UTC
BEGIN:STANDARD
TZOFFSETFROM:+0000
TZOFFSETTO:+0000
TZNAME:UTC
DTSTART:20240101T000000
END:STANDARD
END:VTIMEZONE
BEGIN:VEVENT
DTSTART;TZID=UTC:20251220T193000
DTEND;TZID=UTC:20251220T220000
DTSTAMP:20260419T213509
CREATED:20251225T195709Z
LAST-MODIFIED:20260302T124939Z
UID:34676-1766259000-1766268000@blog.alandotchin.com
SUMMARY:Rasika Indian Restaurant
DESCRIPTION:Rasika Indian Restaurant in Newcastle’s Quayside is a contemporary Indian restaurant known for its blend of traditional flavours and modern culinary flair. Located on Sandhill with scenic views of the River Tyne and the Tyne Bridge\, Rasika offers a welcoming atmosphere ideal for couples\, families\, and friends alike\, whether dining for a casual meal or a special occasion. The menu features classic Indian dishes like korma\, jalfrezi\, and tandoori favourites\, alongside signature specials such as keema murgh and bhuna kathi gosht\, all prepared with careful attention to authentic spices and quality ingredients. Diners also appreciate the restaurant’s lively yet cosy setting and its combination of timeless recipes and contemporary touches.
URL:https://blog.alandotchin.com/event/rasika-indian-restaurant/
CATEGORIES:Food & Drink
ATTACH;FMTTYPE=image/jpeg:https://blog.alandotchin.com/wp-content/uploads/2025/12/482221442_1177507784381086_5292959059116832000_n.jpg
END:VEVENT
BEGIN:VEVENT
DTSTART;TZID=UTC:20251223T130000
DTEND;TZID=UTC:20251223T133000
DTSTAMP:20260419T213509
CREATED:20251225T200533Z
LAST-MODIFIED:20260302T124917Z
UID:34682-1766494800-1766496600@blog.alandotchin.com
SUMMARY:Drakes Fisheries\, York
DESCRIPTION:Drake’s Fish & Chips in York is a well‑loved family‑run fish and chips restaurant and takeaway known for serving traditional Yorkshire‑style fish and chips in the heart of the historic city centre\, just off Low Petergate near York Minster and the Shambles. Established as part of a longstanding Yorkshire fishery business\, it sources sustainably caught North Sea fish and prepares it fresh daily\, often fried in traditional beef dripping with locally grown potatoes for thick\, hearty chips. The restaurant offers a welcoming casual dining atmosphere with a fully licensed bar\, gluten‑free options\, and a varied menu that includes seafood platters and classic British favourites\, making it a popular spot for both visitors and locals alike. With strong reviews praising its quality\, service\, and generous portions\, Drake’s is considered one of York’s go‑to places for a classic fish and chips experience.
URL:https://blog.alandotchin.com/event/drakes-fisheries-in-york/
CATEGORIES:Food & Drink
ATTACH;FMTTYPE=image/jpeg:https://blog.alandotchin.com/wp-content/uploads/2025/12/drakes-fish-chips.jpeg
END:VEVENT
END:VCALENDAR