BEGIN:VCALENDAR
VERSION:2.0
PRODID:-//Alan Dotchin Blog - ECPv6.15.20//NONSGML v1.0//EN
CALSCALE:GREGORIAN
METHOD:PUBLISH
X-ORIGINAL-URL:https://blog.alandotchin.com
X-WR-CALDESC:Events for Alan Dotchin Blog
REFRESH-INTERVAL;VALUE=DURATION:PT1H
X-Robots-Tag:noindex
X-PUBLISHED-TTL:PT1H
BEGIN:VTIMEZONE
TZID:UTC
BEGIN:STANDARD
TZOFFSETFROM:+0000
TZOFFSETTO:+0000
TZNAME:UTC
DTSTART:20240101T000000
END:STANDARD
END:VTIMEZONE
BEGIN:VEVENT
DTSTART;TZID=UTC:20250118T193000
DTEND;TZID=UTC:20250118T213000
DTSTAMP:20260419T150352
CREATED:20250413T162753Z
LAST-MODIFIED:20250413T162753Z
UID:17278-1737228600-1737235800@blog.alandotchin.com
SUMMARY:Schubert’s Fifth Symphony
DESCRIPTION:Refreshing. Delicate. A dram of Schubert.\nWho’s on stage\nOur home orchestra Royal Northern Sinfonia with Artistic Partner Maria Włoszczowska directing from the violin. \nWhat they’re playing\nSchubert’s exquisite Symphony No. 5 in an intimate performance with just 19 musicians.
URL:https://blog.alandotchin.com/event/schuberts-fifth-symphony/
CATEGORIES:Classical,Concerts
ATTACH;FMTTYPE=image/jpeg:https://blog.alandotchin.com/wp-content/uploads/2025/02/Maria-RNS-900-x-570-768x512-1.jpg
END:VEVENT
END:VCALENDAR