BEGIN:VCALENDAR
VERSION:2.0
PRODID:-//Alan Dotchin Blog - ECPv6.15.20//NONSGML v1.0//EN
CALSCALE:GREGORIAN
METHOD:PUBLISH
X-WR-CALNAME:Alan Dotchin Blog
X-ORIGINAL-URL:https://blog.alandotchin.com
X-WR-CALDESC:Events for Alan Dotchin Blog
REFRESH-INTERVAL;VALUE=DURATION:PT1H
X-Robots-Tag:noindex
X-PUBLISHED-TTL:PT1H
BEGIN:VTIMEZONE
TZID:UTC
BEGIN:STANDARD
TZOFFSETFROM:+0000
TZOFFSETTO:+0000
TZNAME:UTC
DTSTART:20240101T000000
END:STANDARD
END:VTIMEZONE
BEGIN:VEVENT
DTSTART;TZID=UTC:20250220T193000
DTEND;TZID=UTC:20250220T223000
DTSTAMP:20260423T041944
CREATED:20250413T160946Z
LAST-MODIFIED:20250413T160946Z
UID:17266-1740079800-1740090600@blog.alandotchin.com
SUMMARY:Banff Mountain Film Festival World Tour 2025
DESCRIPTION:The Banff Mountain Film Festival is back with a brand-new line-up of captivating short films packed with extreme journeys\, intriguing characters and stunning cinematography. Join the world’s top outdoor filmmakers and adventurers as they climb\, ski\, paddle\, run and ride through the wildest corners of the planet! \nThere are two epic film collections\, each with a totally different set of films – the 2025 Red Programme (20 February) and the 2025 Blue Programme (21 February). Double the adventure and save with the two-show discount! \nRED FILM PROGRAMME \nIce Waterfalls \n36 minutes \nFor years\, professional kayaker Aniol Serrasolses has dreamt of running rivers and waterfalls formed by melting ice caps and gigantic glaciers. Accompanied by a team of expert kayakers and Arctic guides\, he ventures into one of the most remote and rugged regions of the planet: Svalbard. Amid the Arctic’s otherworldly landscapes\, reality is about to surpass Aniol’s wildest dreams. \nDropping Molly \n30 minutes \nFollow climber Molly Mitchell’s rollercoaster journey to climb Crank It\, a route in Colorado known for its extreme difficulty and high risks. After facing serious injury on her intense\, years-long project\, Molly confronts her rocky mental health and embarks on a journey of self-discovery and growth\, asking what drives her to push herself to the limits – and beyond.  \nSoul Flyers – The Longest Line \n5 minutes \nWitness the longest terrain-flying wingsuit line in history. Jumping in formation\, Fred Fugen\, Vincent Cotte and Aurélien Chatard travel an incredible 7.5km over the stunning landscape of Mont Blanc\, passing mountaineers\, glaciers\, ice cracks and cliffs as they speed their way to a world record. This film takes the viewer up and into the middle of the action. \nThe Streif \n3 minutes \nYou’ve heard of defying gravity\, but this is defying physics. Freestyle mountain bike phenomenon Fabio Wibmer is crashing the preparations for the most legendary ski race in the world – the Streif in Austria. Get set for a jaw-dropping world-first descent unlike anything ever seen before. \nDolomites \n33 minutes \nKilian Bron is a pro mountain biker known for his penchant for risk taking and his passion for creative adventure filmmaking. In this nail-biting film\, he takes us on a thrilling high-alpine journey\, riding the steepest trails of the Dolomites. Kilian says it has taken him 15 years to accumulate the experience and confidence to charge the most exposed lines in this breath-taking rocky playground. \nWelcome to the Pit \n15 minutes \nIt’s not where you live\, it’s what you make of it. Just south of the Arctic Circle\, Yellowknife in Canada is a hostile landscape\, not for the fainthearted. But when a bunch of skiers and boarders install a rope tow lift at a local gravel pit\, they inadvertently create the epicentre of snow-sliding in the Northwest Territories. A heartwarming story of community\, resilience and making the most of what you’ve got. \nBLUE FILM PROGRAMME \n109 Below \n14 minutes \nThe story of an extraordinary rescue attempt. On Mount Washington\, renowned for the worst weather in North America\, two climbers get lost in a blizzard. Despite savage conditions and sub-zero temperatures\, elite rescue volunteers go out of their way to help these strangers. The attempted rescue not only changes the course of the climbers’ lives\, but also the lives of the rescuers trying save them\, forever. \nA Team Sport \n16 minutes \nUltra-runner Courtney Dauwalter is one of the greatest athletes in the history of the sport\, and she’s testing the limits of body and mind even further. Courtney has challenged herself to tackle three iconic 100-mile races back-to-back in one summer\, including the legendary Tour du Mont Blanc. A Team Sport explores how Courtney sees herself as the latest rung in a long ladder of women redefining the boundaries of trail running. \nOf A Lifetime \n44 minutes \nIt’s the ultimate adventure destination. Of A Lifetime follows three extreme skiers and snowboarders as they sail across the notorious Drake Passage to ride the unimaginably steep\, icy lines of Antarctica. Set against the breath-taking backdrop of the White Continent\, the film also highlights a poignant passing of the adventure baton to the next generation. \nIan \n8 minutes \nIan Elliott is a rock climber from Queensland who’s at the top of his game – aged 72. Defying age stereotypes\, Ian’s technical skills\, strength and endurance shatter societal norms and highlight the extraordinary potential of older athletes. \nReel Rock: Jirishanca \n32 minutes \nAlpinists Josh Wharton and Vince Anderson attempt a free ascent of the Jirishanca\, an epic 6\,000-metre peak in the Peruvian Andes. The duo will have to tackle 5.13 face climbing\, horizontal ice roofs\, technical mixed terrain and treacherous snow mushrooms as they reconcile the inherent risk of climbing with their love of alpine adventure. \n2 Legs is 2 Easy \n6 minutes \nMountain town culture is all about highlighting adventurous achievements and inspiring others to push their limits in their outdoorsy lives. In Colorado’s Rocky Mountains\, one resident stands out as an inspiration to many. Steve Karczewski has never known what it’s like to have two legs\, but that hasn’t prevented him from doing anything and everything he’s ever wanted as an outdoor athlete. \n\n\n \n\n\n\n\n 
URL:https://blog.alandotchin.com/event/banff-mountain-film-festival-world-tour-2025/
CATEGORIES:Film
ATTACH;FMTTYPE=image/jpeg:https://blog.alandotchin.com/wp-content/uploads/2025/02/fw_20240904142546_3.jpg
END:VEVENT
END:VCALENDAR