BEGIN:VCALENDAR
VERSION:2.0
PRODID:-//Alan Dotchin Blog - ECPv6.15.20//NONSGML v1.0//EN
CALSCALE:GREGORIAN
METHOD:PUBLISH
X-WR-CALNAME:Alan Dotchin Blog
X-ORIGINAL-URL:https://blog.alandotchin.com
X-WR-CALDESC:Events for Alan Dotchin Blog
REFRESH-INTERVAL;VALUE=DURATION:PT1H
X-Robots-Tag:noindex
X-PUBLISHED-TTL:PT1H
BEGIN:VTIMEZONE
TZID:UTC
BEGIN:STANDARD
TZOFFSETFROM:+0000
TZOFFSETTO:+0000
TZNAME:UTC
DTSTART:20250101T000000
END:STANDARD
END:VTIMEZONE
BEGIN:VEVENT
DTSTART;TZID=UTC:20260407T180000
DTEND;TZID=UTC:20260407T193000
DTSTAMP:20260419T133446
CREATED:20260328T233225Z
LAST-MODIFIED:20260407T223530Z
UID:36128-1775584800-1775590200@blog.alandotchin.com
SUMMARY:Climbing Everest with Bentley Beetham
DESCRIPTION:Part of the Tuesdays @ ‘The Hancock’ collection\n\nGreat North Museum: HancockNewcastle upon Tyne\, Tyne and Wear \nTuesday\, Apr 7 from 6 pm to 7:30 pm\n\n\n\nOverview\n \n\n\n\nJoin us as Stephen Livingstone brings the legendary 1924 Everest expedition to life through Bentley Beetham’s own words and photographs. \n\n\n\nKey Information \nSpeaker: Stephen Livingstone \nEvent length: Tuesday 7 April\, 6pm – 7:30pm \nMeet at: NHSN Council Room\, Level 2\, Great North Museum: Hancock \nEvent cost: £4 NHSN Members\, £5 Non-members \nAbout this Event \nIn 1924 a County Durham school teacher\, wildlife photographer and mountaineer called Bentley Beetham was selected to be part of a crack team tasked with being the first to climb the highest mountain in the world. When lead climbers George Mallory and Andrew Irvine mysteriously disappeared on the mountain the 1924 Mount Everest Expedition passed into legend. \nStephen Livingstone uses Beetham’s own words and photographs to tell the story of this remarkable expedition\, from India across the high Tibetan plateau to within striking distance of the summit of Everest. \nStephen Livingstone is an artist whose work principally deals with human impact upon landscapes and habitats. He recently curated Eternal Ascent\, a highly successful exhibition for Durham University’s Oriental Museum documenting the 1924 Mount Everest expedition in more than two hundred photographs selected from the university’s Bentley Beetham Collection. \nAccessibility \nThe NHSN Council Room is fully accessible via the lift at the back of the museum. \nPart of the Tuesdays @ ‘The Hancock’ series. \nJoin us on Tuesday evenings for talks and events exploring the stories behind natural history. View more events in this series here: Tuesdays @ ‘The Hancock’ by NHSN Events | Eventbrite \nRead More
URL:https://blog.alandotchin.com/event/climbing-everest-with-bentley-beetham/
ATTACH;FMTTYPE=image/webp:https://blog.alandotchin.com/wp-content/uploads/2026/03/climbing-everest.webp
END:VEVENT
END:VCALENDAR