BEGIN:VCALENDAR
VERSION:2.0
PRODID:-//Alan Dotchin Blog - ECPv6.15.20//NONSGML v1.0//EN
CALSCALE:GREGORIAN
METHOD:PUBLISH
X-ORIGINAL-URL:https://blog.alandotchin.com
X-WR-CALDESC:Events for Alan Dotchin Blog
REFRESH-INTERVAL;VALUE=DURATION:PT1H
X-Robots-Tag:noindex
X-PUBLISHED-TTL:PT1H
BEGIN:VTIMEZONE
TZID:UTC
BEGIN:STANDARD
TZOFFSETFROM:+0000
TZOFFSETTO:+0000
TZNAME:UTC
DTSTART:20250101T000000
END:STANDARD
END:VTIMEZONE
BEGIN:VEVENT
DTSTART;TZID=UTC:20260316T193000
DTEND;TZID=UTC:20260316T213000
DTSTAMP:20260419T145936
CREATED:20250904T002317Z
LAST-MODIFIED:20260408T093658Z
UID:25118-1773689400-1773696600@blog.alandotchin.com
SUMMARY:Michael Portillo – A Life of Two Halves
DESCRIPTION:Michael Portillo—A Life of Two Halves \nSecretary of State. Traveller. TV superstar. The inimitable Michael Portillo joins us live on stage to share funny\, insightful\, and poignant stories from his extraordinarily rich and varied life. \nThe son of a refugee who rose to become one of Britain’s leading politicians and best loved broadcasters\, Michael Portillo’s life has been a game of two halves. As a statesman he served under Margaret Thatcher\, ran for the leadership of the Conservative Party\, and lost his seat in one of the most famous moments in British political history\, only to become one of the nation’s favourite broadcasters\, sparring with Diane Abbott and Andrew O’Neill and enthralling millions of us with his travels on the world’s greatest railways. \nIn this unique stage show\, Michael will share his life story\, from his late father’s experiences of the Spanish Civil War and escape to England\, where he and Michael’s mother met while looking after refugee children\, all the way to his present-day adventures travelling across Spain\, the USA\, India\, and beyond. \nWe’ll hear Michael’s funny and insightful observations about his old boss Margaret Thatcher and his reflections on the decay of political power. He’ll tell us about his break into TV – including the time he became a single mum… And\, of course\, we’ll hear about the great railway journeys he has undertaken and what they can tell us about the history and state of the world today. \nWhether you are passionate about politics or a fan of Michael’s many international adventures\, this is an unmissable treat. All aboard! \nRead More
URL:https://blog.alandotchin.com/event/michael-portillo-a-life-of-two-halves/
ATTACH;FMTTYPE=image/jpeg:https://blog.alandotchin.com/wp-content/uploads/2025/09/MICHAEL-PORTILLO-web.jpg
END:VEVENT
END:VCALENDAR