BEGIN:VCALENDAR
VERSION:2.0
PRODID:-//Alan Dotchin Blog - ECPv6.15.20//NONSGML v1.0//EN
CALSCALE:GREGORIAN
METHOD:PUBLISH
X-WR-CALNAME:Alan Dotchin Blog
X-ORIGINAL-URL:https://blog.alandotchin.com
X-WR-CALDESC:Events for Alan Dotchin Blog
REFRESH-INTERVAL;VALUE=DURATION:PT1H
X-Robots-Tag:noindex
X-PUBLISHED-TTL:PT1H
BEGIN:VTIMEZONE
TZID:UTC
BEGIN:STANDARD
TZOFFSETFROM:+0000
TZOFFSETTO:+0000
TZNAME:UTC
DTSTART:20250101T000000
END:STANDARD
END:VTIMEZONE
BEGIN:VEVENT
DTSTART;TZID=UTC:20260313T193000
DTEND;TZID=UTC:20260313T213000
DTSTAMP:20260419T145854
CREATED:20260223T201720Z
LAST-MODIFIED:20260314T095631Z
UID:35951-1773430200-1773437400@blog.alandotchin.com
SUMMARY:Sinfonia of London: Elgar's Enigma Variations
DESCRIPTION:Tears. Riddles. A musical portrait like no other.\nWho’s on stage\nHe’s back! Local star John Wilson returns with his own orchestra Sinfonia of London – a combination you’ll be hearing a lot more from in future as they’re now an Artistic Partner at The Glasshouse. Pianist Alexandre Kantorow\, described by The Guardian as a ‘fire-breathing virtuoso’ (presumably not literally)\, joins them. \nWhat they’re playing\nA substantial\, hearty meal of a programme. Richard Strauss’s Don Juan\, Sergei Prokofiev’s Piano Concerto No. 3 and Elgar’s Enigma Variations. \n\n\nWhat you’ll hear\n\nRichard Strauss Don Juan\nSergei Prokofiev Piano Concerto No. 3\nEdward Elgar Enigma Variations \n\n\n\nWho’s playing it\n\nJohn Wilson conductor\nAlexandre Kantorow piano\nSinfonia of London \n\n\n\nWhat’s happening in the music?\n\n\n\n\n\n\nElgar’s Enigma Variations is undoubtedly one of the most popular pieces of music out there\, and it’s easy to see why. It’s an amiable portrait of his friends\, each portrayed with the composer’s trademark charm\, wit\, invention and sentiment. There are mischievous dogs\, ocean-going steamers and summer walks\, and we defy you not to have a tear in your eye for ‘Nimrod’. \nhttps://theglasshouseicm.org/whats-on/sinfonia-of-london-enigma-variations/ \n \n 
URL:https://blog.alandotchin.com/event/sinfonia-of-london-elgars-enigma-variations/
ATTACH;FMTTYPE=image/jpeg:https://blog.alandotchin.com/wp-content/uploads/2026/02/4._Alexandre_Kantorow_24-25_c_Sasha_Gusov.JPG-web-768x512-1.jpg
END:VEVENT
END:VCALENDAR