BEGIN:VCALENDAR
VERSION:2.0
PRODID:-//Alan Dotchin Blog - ECPv6.15.20//NONSGML v1.0//EN
CALSCALE:GREGORIAN
METHOD:PUBLISH
X-ORIGINAL-URL:https://blog.alandotchin.com
X-WR-CALDESC:Events for Alan Dotchin Blog
REFRESH-INTERVAL;VALUE=DURATION:PT1H
X-Robots-Tag:noindex
X-PUBLISHED-TTL:PT1H
BEGIN:VTIMEZONE
TZID:UTC
BEGIN:STANDARD
TZOFFSETFROM:+0000
TZOFFSETTO:+0000
TZNAME:UTC
DTSTART:20250101T000000
END:STANDARD
END:VTIMEZONE
BEGIN:VEVENT
DTSTART;TZID=UTC:20260310T193000
DTEND;TZID=UTC:20260310T213000
DTSTAMP:20260419T145936
CREATED:20251130T140606Z
LAST-MODIFIED:20260408T094251Z
UID:34539-1773171000-1773178200@blog.alandotchin.com
SUMMARY:Glitch - The True Story of the Post Office Scandal
DESCRIPTION:Overview\nRABBLE Theatre presents\nGlitch – The True Story of the Post Office Scandal \n\nPam Stubbs has been sub-postmistress of Barkham Post Office for over twenty years\, respected and loved by the community.  \nBut when unexplained discrepancies start appearing in her accounts\, Pam soon finds herself at the heart of the biggest miscarriage of justice in English legal history.  \nGlitch is an inspirational true story\, based on the experiences of Pam and her colleagues. The play was created with sub-postmistresses and masters affected by the events\, key members of the legal process and commissioned by the University of Reading.  \n“Your production was amazing. Thank you so much for keeping the story alive.” Seema Misra\, sub-postmistress\, wrongly imprisoned whilst pregnant \nWriter: Zannah Kearns\nDramaturg: Beth Flintoff\nDirector: Gareth Taylor and Gemma Colclough\nDesign: Caitlin Abbott\nLighting Design: Oliver Welsh\nMusic and Sound Design: Benjamin Hudson\nBased on an original concept by Elizabeth Conaghan  \nRead More
URL:https://blog.alandotchin.com/event/glitch-the-true-story-of-the-post-office-scandal/
ATTACH;FMTTYPE=image/png:https://blog.alandotchin.com/wp-content/uploads/2025/11/Glitch.png
END:VEVENT
END:VCALENDAR