BEGIN:VCALENDAR
VERSION:2.0
PRODID:-//Alan Dotchin Blog - ECPv6.15.20//NONSGML v1.0//EN
CALSCALE:GREGORIAN
METHOD:PUBLISH
X-WR-CALNAME:Alan Dotchin Blog
X-ORIGINAL-URL:https://blog.alandotchin.com
X-WR-CALDESC:Events for Alan Dotchin Blog
REFRESH-INTERVAL;VALUE=DURATION:PT1H
X-Robots-Tag:noindex
X-PUBLISHED-TTL:PT1H
BEGIN:VTIMEZONE
TZID:UTC
BEGIN:STANDARD
TZOFFSETFROM:+0000
TZOFFSETTO:+0000
TZNAME:UTC
DTSTART:20250101T000000
END:STANDARD
END:VTIMEZONE
BEGIN:VEVENT
DTSTART;VALUE=DATE:20260301
DTEND;VALUE=DATE:20260302
DTSTAMP:20260419T145854
CREATED:20260302T112213Z
LAST-MODIFIED:20260302T112244Z
UID:36009-1772323200-1772409599@blog.alandotchin.com
SUMMARY:Horden Beach & Seaham Beach
DESCRIPTION:A visit to Horden Beach and Seaham offers a refreshing mix of wild coastal beauty and traditional seaside charm along the Durham Heritage Coast. Horden Beach feels rugged and peaceful\, with dramatic cliffs\, wide open skies and the sound of waves rolling onto the shore\, making it perfect for a quiet walk or a moment to unwind. Following the coastal path north brings you to Seaham\, where the atmosphere becomes livelier around the harbour and promenade. Seaham is well known for its sea glass treasures\, colourful cliffs\, and welcoming cafés overlooking the North Sea. Together\, they make for a rewarding coastal outing that combines scenic walking\, photography opportunities and a touch of local history.
URL:https://blog.alandotchin.com/event/horden-beach-seaham-beach/
ATTACH;FMTTYPE=image/jpeg:https://blog.alandotchin.com/wp-content/uploads/2026/03/tommy-with-the-future.jpg
END:VEVENT
END:VCALENDAR