BEGIN:VCALENDAR
VERSION:2.0
PRODID:-//Alan Dotchin Blog - ECPv6.15.20//NONSGML v1.0//EN
CALSCALE:GREGORIAN
METHOD:PUBLISH
X-WR-CALNAME:Alan Dotchin Blog
X-ORIGINAL-URL:https://blog.alandotchin.com
X-WR-CALDESC:Events for Alan Dotchin Blog
REFRESH-INTERVAL;VALUE=DURATION:PT1H
X-Robots-Tag:noindex
X-PUBLISHED-TTL:PT1H
BEGIN:VTIMEZONE
TZID:UTC
BEGIN:STANDARD
TZOFFSETFROM:+0000
TZOFFSETTO:+0000
TZNAME:UTC
DTSTART:20240101T000000
END:STANDARD
END:VTIMEZONE
BEGIN:VEVENT
DTSTART;VALUE=DATE:20251223
DTEND;VALUE=DATE:20251224
DTSTAMP:20260419T191604
CREATED:20251222T185958Z
LAST-MODIFIED:20251226T105520Z
UID:34621-1766448000-1766534399@blog.alandotchin.com
SUMMARY:Christmas in York
DESCRIPTION:York is a historic city in northern England\, renowned for its rich heritage\, striking architecture\, and vibrant cultural life. Founded by the Romans and later shaped by Viking and medieval influences\, the city’s past is vividly reflected in its well-preserved landmarks\, including the magnificent York Minster\, the ancient city walls\, and the narrow\, atmospheric streets of the Shambles. Set along the River Ouse\, York blends centuries of history with modern attractions such as museums\, independent shops\, cafés\, and festivals. This combination of old and new gives York a distinctive character\, making it both a fascinating place to explore and a lively city to live in or visit.
URL:https://blog.alandotchin.com/event/york-photographing-york-at-christmas/
ATTACH;FMTTYPE=image/jpeg:https://blog.alandotchin.com/wp-content/uploads/2025/12/York_Minster_2797690.jpg
END:VEVENT
BEGIN:VEVENT
DTSTART;TZID=UTC:20251223T103000
DTEND;TZID=UTC:20251223T123000
DTSTAMP:20260419T191604
CREATED:20251225T200129Z
LAST-MODIFIED:20251226T105739Z
UID:34679-1766485800-1766493000@blog.alandotchin.com
SUMMARY:Association of Voluntary Guides to the City of York\, York
DESCRIPTION:The Association of Voluntary Guides to the City of York (AVG) offer daily free 2-hour walking tours to visitors from all over the world. \nWe have been offering complimentary guided tours around York since 1951. \nOur team of 80+ local expert guides take great pleasure in showcasing our beautiful city\, and we look forward to welcoming you on one of our regular twice-daily tours. \nTours begin at 10.30am & 1.15pm and run every day except Christmas Day. \nOur tours are free; there is no need to offer a tip.
URL:https://blog.alandotchin.com/event/york-tour-association-of-voluntary-guides-to-the-city-of-york-avg/
ATTACH;FMTTYPE=image/jpeg:https://blog.alandotchin.com/wp-content/uploads/2025/12/5.-The-Kings-Manor.jpg
END:VEVENT
BEGIN:VEVENT
DTSTART;TZID=UTC:20251223T130000
DTEND;TZID=UTC:20251223T133000
DTSTAMP:20260419T191604
CREATED:20251225T200533Z
LAST-MODIFIED:20260302T124917Z
UID:34682-1766494800-1766496600@blog.alandotchin.com
SUMMARY:Drakes Fisheries\, York
DESCRIPTION:Drake’s Fish & Chips in York is a well‑loved family‑run fish and chips restaurant and takeaway known for serving traditional Yorkshire‑style fish and chips in the heart of the historic city centre\, just off Low Petergate near York Minster and the Shambles. Established as part of a longstanding Yorkshire fishery business\, it sources sustainably caught North Sea fish and prepares it fresh daily\, often fried in traditional beef dripping with locally grown potatoes for thick\, hearty chips. The restaurant offers a welcoming casual dining atmosphere with a fully licensed bar\, gluten‑free options\, and a varied menu that includes seafood platters and classic British favourites\, making it a popular spot for both visitors and locals alike. With strong reviews praising its quality\, service\, and generous portions\, Drake’s is considered one of York’s go‑to places for a classic fish and chips experience.
URL:https://blog.alandotchin.com/event/drakes-fisheries-in-york/
CATEGORIES:Food & Drink
ATTACH;FMTTYPE=image/jpeg:https://blog.alandotchin.com/wp-content/uploads/2025/12/drakes-fish-chips.jpeg
END:VEVENT
BEGIN:VEVENT
DTSTART;TZID=UTC:20251223T133000
DTEND;TZID=UTC:20251223T143000
DTSTAMP:20260419T191604
CREATED:20251225T231644Z
LAST-MODIFIED:20251226T105449Z
UID:34688-1766496600-1766500200@blog.alandotchin.com
SUMMARY:Shambles\, York
DESCRIPTION:The Shambles in York is one of England’s most charming and well-preserved medieval streets\, instantly recognisable for its narrow cobbled lane and overhanging timber-framed buildings. Dating back to the 14th century\, the street was originally home to butchers\, and traces of its past can still be seen in the meat hooks that once hung outside the shops. Today\, The Shambles is a vibrant blend of history and modern life\, lined with independent boutiques\, traditional sweet shops\, artisan crafts\, and cosy cafés. Its fairytale appearance\, especially when decorated for seasonal events\, makes it one of the most photographed streets in the UK and a must-visit highlight for anyone exploring the historic city of York.
URL:https://blog.alandotchin.com/event/york-shambles/
ATTACH;FMTTYPE=image/jpeg:https://blog.alandotchin.com/wp-content/uploads/2025/12/Shambles_shopper_8686.jpg
END:VEVENT
BEGIN:VEVENT
DTSTART;TZID=UTC:20251223T143000
DTEND;TZID=UTC:20251223T153000
DTSTAMP:20260419T191604
CREATED:20251225T231900Z
LAST-MODIFIED:20251225T231900Z
UID:34691-1766500200-1766503800@blog.alandotchin.com
SUMMARY:Clifford's Tower\, York
DESCRIPTION:Clifford’s Tower is one of York’s most iconic landmarks\, standing proudly on a grass-covered motte just south of the city centre. Built in the 13th century on the site of an earlier Norman wooden fortress\, the tower played a key role in the city’s medieval defences and royal history. Its distinctive four-lobed design offers panoramic views across York\, including the Minster and the surrounding city walls. Despite its turbulent past\, including a tragic massacre of York’s Jewish community in 1190\, Clifford’s Tower remains a powerful symbol of England’s medieval heritage and provides visitors with both historical insight and one of the best viewpoints in the city.
URL:https://blog.alandotchin.com/event/cliffords-tower-york/
ATTACH;FMTTYPE=image/jpeg:https://blog.alandotchin.com/wp-content/uploads/2025/12/Cliffords_Tower_5259021070.jpg
END:VEVENT
BEGIN:VEVENT
DTSTART;TZID=UTC:20251223T160000
DTEND;TZID=UTC:20251223T170000
DTSTAMP:20260419T191604
CREATED:20251225T222204Z
LAST-MODIFIED:20251226T105422Z
UID:34685-1766505600-1766509200@blog.alandotchin.com
SUMMARY:National Rail Museum\, York
DESCRIPTION:The National Railway Museum in York is one of the world’s leading railway museums and a must-visit attraction for anyone interested in the history and impact of rail transport. Located just a short walk from York station\, it houses an exceptional collection of iconic locomotives and railway artefacts that trace more than 200 years of rail history\, including famous engines like Mallard and even a Japanese bullet train. Admission to the museum is free\, making it an accessible and engaging experience for all ages\, with exhibits that appeal to train enthusiasts\, families\, and history lovers alike. Recent renovations\, such as the restored historic Station Hall\, have enhanced the displays of royal carriages and other treasures\, while interactive features and special exhibitions continue to bring the story of rail travel to life.
URL:https://blog.alandotchin.com/event/york-national-rail-museum/
ATTACH;FMTTYPE=image/jpeg:https://blog.alandotchin.com/wp-content/uploads/2025/10/get-face-to-face-with.jpg
END:VEVENT
END:VCALENDAR