BEGIN:VCALENDAR
VERSION:2.0
PRODID:-//Alan Dotchin Blog - ECPv6.15.20//NONSGML v1.0//EN
CALSCALE:GREGORIAN
METHOD:PUBLISH
X-WR-CALNAME:Alan Dotchin Blog
X-ORIGINAL-URL:https://blog.alandotchin.com
X-WR-CALDESC:Events for Alan Dotchin Blog
REFRESH-INTERVAL;VALUE=DURATION:PT1H
X-Robots-Tag:noindex
X-PUBLISHED-TTL:PT1H
BEGIN:VTIMEZONE
TZID:UTC
BEGIN:STANDARD
TZOFFSETFROM:+0000
TZOFFSETTO:+0000
TZNAME:UTC
DTSTART:20240101T000000
END:STANDARD
END:VTIMEZONE
BEGIN:VEVENT
DTSTART;VALUE=DATE:20251121
DTEND;VALUE=DATE:20251122
DTSTAMP:20260419T204028
CREATED:20251114T083850Z
LAST-MODIFIED:20251123T222555Z
UID:33805-1763683200-1763769599@blog.alandotchin.com
SUMMARY:Sheffield
DESCRIPTION:Sheffield is a vibrant city located in South Yorkshire\, England\, known for its rich industrial heritage and stunning natural surroundings. Once famed as the heart of Britain’s steel industry\, Sheffield has transformed into a modern\, green city that balances its proud history with innovation and culture. The city is home to two major universities—the University of Sheffield and Sheffield Hallam University—which contribute to its lively student population and strong academic reputation. With the scenic Peak District National Park on its doorstep\, Sheffield offers a unique blend of urban life and outdoor adventure\, featuring numerous parks\, woodlands\, and rivers. Today\, it thrives as a centre for creative industries\, advanced manufacturing\, and music\, embodying both resilience and regeneration.
URL:https://blog.alandotchin.com/event/sheffield-2/
ATTACH;FMTTYPE=image/jpeg:https://blog.alandotchin.com/wp-content/uploads/2025/11/Sheffield_Town_Hall_27475677653.jpg
END:VEVENT
BEGIN:VEVENT
DTSTART;VALUE=DATE:20251122
DTEND;VALUE=DATE:20251123
DTSTAMP:20260419T204028
CREATED:20251111T131216Z
LAST-MODIFIED:20260302T123022Z
UID:33706-1763769600-1763855999@blog.alandotchin.com
SUMMARY:National Emergency Services Museum
DESCRIPTION:The National Emergency Services Museum is a fascinating and unique heritage attraction in Sheffield\, South Yorkshire\, dedicated to preserving and celebrating the history of Britain’s emergency services. Housed in one of England’s first purpose-built combined police\, fire and ambulance stations\, the museum occupies a striking Victorian building dating back to around 1900\, complete with many original features such as the old police cells and the engine house where fire appliances were once housed. \nInside\, visitors can explore three floors of interactive exhibitions that trace the development of emergency services from their earliest incarnations to the modern day. The museum’s extensive collection includes around 150 historic vehicles\, with about 40 on display at any one time — from horse-drawn fire engines and early ambulances to vintage police cars and even a 47-foot RNLI lifeboat. These exhibits are complemented by uniforms\, equipment\, badges\, and other artefacts that tell the stories of the people and technologies that helped shape lifesaving services over centuries. \nWhat sets this museum apart is its blend of informative history and hands-on engagement. Many displays use lights\, sound\, and sensory effects to bring scenes to life\, such as a recreated Blitz-era house that immerses visitors in the experiences of air raid nights during the Second World War. There are interactive elements where visitors can climb aboard vehicles\, try on uniforms\, or explore challenges faced by emergency responders — making it especially appealing for families and younger guests. \nAs an independent\, self-funded charity\, the museum also serves as a community and educational resource. It offers school-friendly workshops\, group tours\, and special seasonal events\, while its café and gift shop provide pleasant spaces to relax or pick up a souvenir after a visit. Recognised nationally for its family-focused approach\, the museum has won awards for its engaging displays and welcoming environment. \nOverall\, the National Emergency Services Museum offers a rich\, immersive journey through the history of 999 services\, highlighting both the technological evolution and the personal stories behind the uniforms and vehicles that have become iconic in British public life.
URL:https://blog.alandotchin.com/event/sheffield/
ATTACH;FMTTYPE=image/webp:https://blog.alandotchin.com/wp-content/uploads/2025/11/national-emergency-services-museum-1-sheffield-431c94a7.webp
END:VEVENT
END:VCALENDAR