BEGIN:VCALENDAR
VERSION:2.0
PRODID:-//Alan Dotchin Blog - ECPv6.15.20//NONSGML v1.0//EN
CALSCALE:GREGORIAN
METHOD:PUBLISH
X-WR-CALNAME:Alan Dotchin Blog
X-ORIGINAL-URL:https://blog.alandotchin.com
X-WR-CALDESC:Events for Alan Dotchin Blog
REFRESH-INTERVAL;VALUE=DURATION:PT1H
X-Robots-Tag:noindex
X-PUBLISHED-TTL:PT1H
BEGIN:VTIMEZONE
TZID:UTC
BEGIN:STANDARD
TZOFFSETFROM:+0000
TZOFFSETTO:+0000
TZNAME:UTC
DTSTART:20240101T000000
END:STANDARD
END:VTIMEZONE
BEGIN:VEVENT
DTSTART;TZID=UTC:20251117T143000
DTEND;TZID=UTC:20251117T163000
DTSTAMP:20260419T204028
CREATED:20251118T203029Z
LAST-MODIFIED:20251118T203029Z
UID:34361-1763389800-1763397000@blog.alandotchin.com
SUMMARY:The Choral
DESCRIPTION:The Choral is a British historical drama film directed by Nicholas Hytner and written by Alan Bennett\, two titans of British theatre and cinema. It is set in Yorkshire in 1916\, during the First World War\, and revolves around a local choral society in a fictional mill town called Ramsden. The movie explores how community\, grief\, music\, and class intersect in times of national crisis. \nThe film’s world premiere was at the Toronto International Film Festival (TIFF) in 2025\, and it is released theatrically in the UK on 7 November 2025. With a runtime of approximately 113 minutes.
URL:https://blog.alandotchin.com/event/the-choral/
ATTACH;FMTTYPE=image/jpeg:https://blog.alandotchin.com/wp-content/uploads/2025/11/the-choral.jpg
END:VEVENT
END:VCALENDAR