BEGIN:VCALENDAR
VERSION:2.0
PRODID:-//Alan Dotchin Blog - ECPv6.15.20//NONSGML v1.0//EN
CALSCALE:GREGORIAN
METHOD:PUBLISH
X-ORIGINAL-URL:https://blog.alandotchin.com
X-WR-CALDESC:Events for Alan Dotchin Blog
REFRESH-INTERVAL;VALUE=DURATION:PT1H
X-Robots-Tag:noindex
X-PUBLISHED-TTL:PT1H
BEGIN:VTIMEZONE
TZID:UTC
BEGIN:STANDARD
TZOFFSETFROM:+0000
TZOFFSETTO:+0000
TZNAME:UTC
DTSTART:20240101T000000
END:STANDARD
END:VTIMEZONE
BEGIN:VEVENT
DTSTART;VALUE=DATE:20251030
DTEND;VALUE=DATE:20251103
DTSTAMP:20260419T221325
CREATED:20250812T103948Z
LAST-MODIFIED:20251104T104409Z
UID:23191-1761782400-1762127999@blog.alandotchin.com
SUMMARY:Leeds
DESCRIPTION:Leeds is a vibrant and dynamic city located in West Yorkshire\, in the north of England. Once a powerhouse of the Industrial Revolution\, known especially for its textile and engineering industries\, Leeds has transformed into a modern cultural and commercial hub. It boasts a rich architectural heritage\, blending grand Victorian buildings with striking contemporary design. As the largest city in Yorkshire\, Leeds is home to world-class universities\, a thriving music and arts scene\, and a diverse population. Its compact city centre offers a mix of historic arcades\, bustling markets like Kirkgate Market\, lively nightlife\, and excellent shopping\, making it one of the most exciting urban destinations in the UK.
URL:https://blog.alandotchin.com/event/leeds-amadeus-concert-opera-north/
ATTACH;FMTTYPE=image/jpeg:https://blog.alandotchin.com/wp-content/uploads/2025/07/Leeds-Corn-Exchange-Credit-Stevie-Campbell-1-scaled-1.jpg
END:VEVENT
BEGIN:VEVENT
DTSTART;VALUE=DATE:20251101
DTEND;VALUE=DATE:20251102
DTSTAMP:20260419T221325
CREATED:20251104T172011Z
LAST-MODIFIED:20251104T172259Z
UID:33413-1761955200-1762041599@blog.alandotchin.com
SUMMARY:MediaCity Manchester – The Beating Heart of the UK’s Creative North
DESCRIPTION:Set on the glimmering waters of Salford Quays\, just a short tram ride from Manchester city centre\, MediaCity has rapidly become one of the UK’s most dynamic cultural and creative hubs. What was once a cluster of industrial docks and warehouses has been reborn as a futuristic media village — a place where innovation\, broadcasting\, technology\, and art intersect. \nFrom the BBC and ITV Studios to independent production companies\, film crews\, digital start-ups\, and world-class universities\, MediaCity is a place alive with creativity. Yet\, beyond its studios and office towers\, it’s also a vibrant public space — filled with restaurants\, exhibitions\, public art\, and stunning waterside views that invite both inspiration and relaxation. \nRead More
URL:https://blog.alandotchin.com/event/mediacity-manchester-the-beating-heart-of-the-uks-creative-north/
ATTACH;FMTTYPE=image/jpeg:https://blog.alandotchin.com/wp-content/uploads/2025/11/media-city-manchester.jpg
END:VEVENT
BEGIN:VEVENT
DTSTART;VALUE=DATE:20251101
DTEND;VALUE=DATE:20251102
DTSTAMP:20260419T221325
CREATED:20251104T171328Z
LAST-MODIFIED:20251104T171347Z
UID:33406-1761955200-1762041599@blog.alandotchin.com
SUMMARY:Manchester Cathedral
DESCRIPTION:Manchester Cathedral\, formally known as the Cathedral and Collegiate Church of St Mary\, St Denys\, and St George\, is one of the city’s most enduring landmarks. Situated near the River Irwell in the heart of Manchester\, the cathedral has stood for centuries as a spiritual\, cultural\, and architectural focal point. It is a building that reflects not only the history of Christianity in the region but also the growth and transformation of Manchester from a medieval parish town into one of the world’s great industrial and modern cities. With its striking Gothic architecture\, rich heritage\, and continuing role as a place of worship and community engagement\, Manchester Cathedral remains a living symbol of resilience\, faith\, and continuity. \nRead More
URL:https://blog.alandotchin.com/event/manchester-cathedral/
ATTACH;FMTTYPE=image/jpeg:https://blog.alandotchin.com/wp-content/uploads/2025/09/Manchester_Cathedral_-_Aerial_-_2024-06-16_02-scaled.jpg
END:VEVENT
BEGIN:VEVENT
DTSTART;VALUE=DATE:20251101
DTEND;VALUE=DATE:20251102
DTSTAMP:20260419T221325
CREATED:20251104T171525Z
LAST-MODIFIED:20251104T171525Z
UID:33411-1761955200-1762041599@blog.alandotchin.com
SUMMARY:Manchester Art Gallery
DESCRIPTION:Manchester Art Gallery\, located in the heart of Manchester city centre\, is one of the most significant cultural institutions in the United Kingdom. Renowned for its rich and diverse collection\, its striking neoclassical architecture\, and its role as a hub for education and community engagement\, the gallery embodies both the city’s industrial past and its forward-looking cultural ambitions. For more than a century and a half\, it has been a place where art\, history\, and society meet\, offering visitors an opportunity to explore works spanning over six centuries. \nRead More
URL:https://blog.alandotchin.com/event/manchester-art-gallery/
ATTACH;FMTTYPE=image/webp:https://blog.alandotchin.com/wp-content/uploads/2025/09/19de43ee-b66b-44dc-a3ad-9bf642d22ec1.webp
END:VEVENT
BEGIN:VEVENT
DTSTART;VALUE=DATE:20251101
DTEND;VALUE=DATE:20251102
DTSTAMP:20260419T221325
CREATED:20251104T171844Z
LAST-MODIFIED:20251104T171844Z
UID:33415-1761955200-1762041599@blog.alandotchin.com
SUMMARY:Imperial War Museum North – A Journey Through Conflict\, Memory\, and Reflection
DESCRIPTION:Perched on the banks of the Manchester Ship Canal in Salford Quays\, the Imperial War Museum North (IWM North) is one of Britain’s most thought-provoking and architecturally striking museums. It is not simply a collection of military artefacts; rather\, it’s a place that invites visitors to reflect deeply on the impact of war — not just on nations and soldiers\, but on ordinary people whose lives have been shaped\, disrupted\, and sometimes destroyed by conflict.
URL:https://blog.alandotchin.com/event/imperial-war-museum-north-a-journey-through-conflict-memory-and-reflection/
ATTACH;FMTTYPE=image/jpeg:https://blog.alandotchin.com/wp-content/uploads/2025/11/9c52ec3eed00169c09601b4dd63f51ac-xl.jpg
END:VEVENT
BEGIN:VEVENT
DTSTART;VALUE=DATE:20251101
DTEND;VALUE=DATE:20251102
DTSTAMP:20260419T221325
CREATED:20251104T172349Z
LAST-MODIFIED:20251104T172349Z
UID:33418-1761955200-1762041599@blog.alandotchin.com
SUMMARY:The Lowry – Salford Quays: Where Art\, Theatre\, and Architecture Meet the Spirit of the North
DESCRIPTION:Standing proudly on the waterfront of Salford Quays\, just a short tram ride from Manchester city centre\, The Lowry is one of the North West’s most inspiring cultural landmarks. Named after the celebrated local artist L.S. Lowry\, it’s far more than just an art gallery — it’s a living\, breathing arts complex that celebrates creativity in all its forms. \nBlending striking architecture\, world-class theatre\, and the world’s largest public collection of Lowry’s work\, The Lowry has become a symbol of Salford’s transformation from industrial docklands into a vibrant cultural destination. It’s a place where art meets community\, and where the industrial past is celebrated through a modern\, creative lens. \nRead More
URL:https://blog.alandotchin.com/event/the-lowry-salford-quays-where-art-theatre-and-architecture-meet-the-spirit-of-the-north/
ATTACH;FMTTYPE=image/jpeg:https://blog.alandotchin.com/wp-content/uploads/2025/11/the-lowry.jpg
END:VEVENT
END:VCALENDAR