BEGIN:VCALENDAR
VERSION:2.0
PRODID:-//Alan Dotchin Blog - ECPv6.15.20//NONSGML v1.0//EN
CALSCALE:GREGORIAN
METHOD:PUBLISH
X-WR-CALNAME:Alan Dotchin Blog
X-ORIGINAL-URL:https://blog.alandotchin.com
X-WR-CALDESC:Events for Alan Dotchin Blog
REFRESH-INTERVAL;VALUE=DURATION:PT1H
X-Robots-Tag:noindex
X-PUBLISHED-TTL:PT1H
BEGIN:VTIMEZONE
TZID:UTC
BEGIN:STANDARD
TZOFFSETFROM:+0000
TZOFFSETTO:+0000
TZNAME:UTC
DTSTART:20240101T000000
END:STANDARD
END:VTIMEZONE
BEGIN:VEVENT
DTSTART;VALUE=DATE:20251030
DTEND;VALUE=DATE:20251031
DTSTAMP:20260419T175214
CREATED:20251104T105033Z
LAST-MODIFIED:20251104T105033Z
UID:33334-1761782400-1761868799@blog.alandotchin.com
SUMMARY:Leeds City Museum: A Journey Through History\, Science\, and Culture
DESCRIPTION:Leeds City Museum stands as one of the most important cultural institutions in Leeds\, West Yorkshire. Situated in the heart of the city\, this dynamic and family-friendly museum offers a rich and immersive experience for visitors of all ages. With six galleries spanning natural history\, ancient civilisations\, world cultures\, local heritage\, and temporary exhibitions\, the museum serves as a gateway to understanding both the city’s past and the broader world beyond. Free to enter and open to all\, Leeds City Museum is a vital educational and cultural resource that reflects the diversity\, ambition\, and heritage of the city.
URL:https://blog.alandotchin.com/event/leeds-city-museum-a-journey-through-history-science-and-culture/
ATTACH;FMTTYPE=image/jpeg:https://blog.alandotchin.com/wp-content/uploads/2025/07/leeds-city-museum-1024x682-1.jpg
END:VEVENT
BEGIN:VEVENT
DTSTART;VALUE=DATE:20251030
DTEND;VALUE=DATE:20251031
DTSTAMP:20260419T175214
CREATED:20251104T170840Z
LAST-MODIFIED:20251104T170840Z
UID:33404-1761782400-1761868799@blog.alandotchin.com
SUMMARY:The Art Gallery: A Sanctuary of Culture\, Expression\, and Human Creativity
DESCRIPTION:An art gallery is more than just a building filled with paintings\, sculptures\, and visual artefacts—it is a space where human imagination\, emotion\, history\, and philosophy converge. Art galleries serve as custodians of cultural heritage\, incubators of creativity\, and sanctuaries for reflection and inspiration. Whether it’s a grand national gallery filled with centuries-old masterpieces or a small\, contemporary local space showcasing emerging talent\, the art gallery remains an essential institution within every society. \nRead More
URL:https://blog.alandotchin.com/event/the-art-gallery-a-sanctuary-of-culture-expression-and-human-creativity/
ATTACH;FMTTYPE=image/jpeg:https://blog.alandotchin.com/wp-content/uploads/2025/07/708a44d2136af8128839276083e0a476-1.jpg
END:VEVENT
BEGIN:VEVENT
DTSTART;VALUE=DATE:20251030
DTEND;VALUE=DATE:20251103
DTSTAMP:20260419T175214
CREATED:20250812T103948Z
LAST-MODIFIED:20251104T104409Z
UID:23191-1761782400-1762127999@blog.alandotchin.com
SUMMARY:Leeds
DESCRIPTION:Leeds is a vibrant and dynamic city located in West Yorkshire\, in the north of England. Once a powerhouse of the Industrial Revolution\, known especially for its textile and engineering industries\, Leeds has transformed into a modern cultural and commercial hub. It boasts a rich architectural heritage\, blending grand Victorian buildings with striking contemporary design. As the largest city in Yorkshire\, Leeds is home to world-class universities\, a thriving music and arts scene\, and a diverse population. Its compact city centre offers a mix of historic arcades\, bustling markets like Kirkgate Market\, lively nightlife\, and excellent shopping\, making it one of the most exciting urban destinations in the UK.
URL:https://blog.alandotchin.com/event/leeds-amadeus-concert-opera-north/
ATTACH;FMTTYPE=image/jpeg:https://blog.alandotchin.com/wp-content/uploads/2025/07/Leeds-Corn-Exchange-Credit-Stevie-Campbell-1-scaled-1.jpg
END:VEVENT
BEGIN:VEVENT
DTSTART;TZID=UTC:20251030T193000
DTEND;TZID=UTC:20251030T223000
DTSTAMP:20260419T175214
CREATED:20250612T185104Z
LAST-MODIFIED:20251104T104401Z
UID:18721-1761852600-1761863400@blog.alandotchin.com
SUMMARY:Amadeus Live in concert
DESCRIPTION:Experience the multi-Academy Award-winning film Amadeus with Mozart’s music performed live by the Orchestra and Chorus of Opera North. \nWinner of eight Academy Awards® including Best Picture\, Milos Foreman’s sumptuous Amadeus is an aural and visual treat for all the senses\, and a soaring celebrating of the music of Wolfgang Amadeus Mozart. It tells the story of envious fellow composer Antonio Salieri\, who has longed all his life for the divine musical gifts which the vulgar\, impish young Mozart possesses. Salieri’s envy fuels his plot to destroy Mozart\, while all the while unable to tear himself away from the genius of his music. \nhttps://www.operanorth.co.uk/whats-on/amadeus-live-in-concert/
URL:https://blog.alandotchin.com/event/amadeus-live-in-concert/
ATTACH;FMTTYPE=image/jpeg:https://blog.alandotchin.com/wp-content/uploads/2025/06/amadeusyetagain.jpg
END:VEVENT
END:VCALENDAR