BEGIN:VCALENDAR
VERSION:2.0
PRODID:-//Alan Dotchin Blog - ECPv6.15.20//NONSGML v1.0//EN
CALSCALE:GREGORIAN
METHOD:PUBLISH
X-ORIGINAL-URL:https://blog.alandotchin.com
X-WR-CALDESC:Events for Alan Dotchin Blog
REFRESH-INTERVAL;VALUE=DURATION:PT1H
X-Robots-Tag:noindex
X-PUBLISHED-TTL:PT1H
BEGIN:VTIMEZONE
TZID:UTC
BEGIN:STANDARD
TZOFFSETFROM:+0000
TZOFFSETTO:+0000
TZNAME:UTC
DTSTART:20240101T000000
END:STANDARD
END:VTIMEZONE
BEGIN:VEVENT
DTSTART;TZID=UTC:20250925T110000
DTEND;TZID=UTC:20250925T123000
DTSTAMP:20260419T230923
CREATED:20250809T111512Z
LAST-MODIFIED:20250923T102330Z
UID:22404-1758798000-1758803400@blog.alandotchin.com
SUMMARY:1825 Tour | September
DESCRIPTION:Thursday 25th September | 11am \nThe Lit & Phil: the first 32 years \nWhat would you see in Newcastle from the time the Lit & Phil was founded in 1793 to the opening of its home on Westgate Road in 1825? This newly devised walking tour passes the sites of where the Literary and Philosophical Society met before its permanent home. Hear stories of events that took place in these original meeting places and of other buildings we shall pass\, many of which are still standing. \nRoute: Start outside Lit & Phil – cross to Virgin Mary Hospital gatepost – Westgate Road – Old Assembly Rooms – Fenkle Street – Low Friar Street – Newgate Street – Bigg Market – Groat Market – St Nicholas Churchyard – Collingwood Street – ends back at the Lit & Phil\, with a very short inside visit. \nBooking essential as places are limited. \nA LIVE Lit & Phil Event | FREE \n(If you would prefer to book directly over the phone\, please call the Library Desk team on 0191 232 0192 and they will be happy to help) \n‘Pay what you wish’ \nThere is no set ticket price for this event\, but if you would like to make a small donation to support the good work of The Lit & Phil we would be very grateful. Click the link above to donate via Paypal.
URL:https://blog.alandotchin.com/event/1825-tour-september/
ATTACH;FMTTYPE=image/webp:https://blog.alandotchin.com/wp-content/uploads/2025/08/Engraving-NEW-LIBRARY-Copy.jpg.webp
END:VEVENT
END:VCALENDAR