BEGIN:VCALENDAR
VERSION:2.0
PRODID:-//Alan Dotchin Blog - ECPv6.15.20//NONSGML v1.0//EN
CALSCALE:GREGORIAN
METHOD:PUBLISH
X-WR-CALNAME:Alan Dotchin Blog
X-ORIGINAL-URL:https://blog.alandotchin.com
X-WR-CALDESC:Events for Alan Dotchin Blog
REFRESH-INTERVAL;VALUE=DURATION:PT1H
X-Robots-Tag:noindex
X-PUBLISHED-TTL:PT1H
BEGIN:VTIMEZONE
TZID:UTC
BEGIN:STANDARD
TZOFFSETFROM:+0000
TZOFFSETTO:+0000
TZNAME:UTC
DTSTART:20240101T000000
END:STANDARD
END:VTIMEZONE
BEGIN:VEVENT
DTSTART;TZID=UTC:20250924T143000
DTEND;TZID=UTC:20250924T160000
DTSTAMP:20260419T160708
CREATED:20250911T162034Z
LAST-MODIFIED:20250911T162034Z
UID:25822-1758724200-1758729600@blog.alandotchin.com
SUMMARY:Letting Off Steam - Walking Tour WA
DESCRIPTION:About this event\n\nTravel & Outdoor • Hiking\n\n\n\n\n\nMeet at Cardinal Hume’s Statue opposite Central Station and finish at the Boiler shop. \nJoin us to celebrate the 200th anniversary of the Stockton & Darlington Railway which opened on Sept 27th 1825. \nOn this walk we look at the development of the railways in Newcastle and the very significant role played by George Stephenson and his son Robert. The walk includes a potential tour of the Boiler shop where they built the first railway locomotives. \nBooking will secure your place but walk-ups will be available on the day. \nIf you are a 2025 season ticket holder\, remember you MUST bring along your ticket or you will be asked to pay for your tour. \nTour lasts approx 1.5hrs \nAssistance dogs only. No other pets allowed.
URL:https://blog.alandotchin.com/event/letting-off-steam-walking-tour-wa/
ATTACH;FMTTYPE=image/jpeg:https://blog.alandotchin.com/wp-content/uploads/2025/09/https___cdn.evbuc_.com_images_1013216793_793061348563_1_original.jpg
END:VEVENT
BEGIN:VEVENT
DTSTART;TZID=UTC:20250924T193000
DTEND;TZID=UTC:20250924T213000
DTSTAMP:20260419T160708
CREATED:20250526T121131Z
LAST-MODIFIED:20250924T070821Z
UID:17994-1758742200-1758749400@blog.alandotchin.com
SUMMARY:Sherlock Holmes: The Hunt for Moriarty
DESCRIPTION:Overview\nBlackeyed Theatre\, in association with Theatre Royal Winchester and South Hill Park \n\nAdapted by Nick Lane from the work of Sir Arthur Conan Doyle \nComposer – Tristan Parkes \n“When you have one of the first brains of Europe up against you\, and all the powers of darkness at his back\, there are infinite possibilities” \nLondon\, 1901. As the British Empire wages war in the name of a Queen whose health is failing\, a series of mysterious events reveals a crack in the high corridors of power. A crack that threatens to destabilise monarchy\, government and Empire. And at its centre\, controlling the flow of information and influence\, a shadowy figure plans a final deadly move. \nDrawn into the game and unsure who to trust\, Sherlock Holmes and Dr. Watson find themselves confronting figures from their past in a desperate race against time\, aware that the most powerful person in the world could be in the pocket of one of the most corrupt. But just how much is Holmes willing to sacrifice to avoid checkmate? \nA thrilling adventure based on the work of Sir Arthur Conan Doyle\, Sherlock Holmes: The Hunt for Moriarty is a world premiere combining powerful performances\, a haunting soundscape and innovative design for an exhilarating theatrical experience. \n“One of the most innovative\, audacious companies working in contemporary English theatre” The Stage
URL:https://blog.alandotchin.com/event/sherlock-holmes-the-hunt-for-moriarty/
ATTACH;FMTTYPE=image/jpeg:https://blog.alandotchin.com/wp-content/uploads/2025/05/SherlockHomesWeb-min-scaled-1.jpg
END:VEVENT
END:VCALENDAR