BEGIN:VCALENDAR
VERSION:2.0
PRODID:-//Alan Dotchin Blog - ECPv6.15.20//NONSGML v1.0//EN
CALSCALE:GREGORIAN
METHOD:PUBLISH
X-ORIGINAL-URL:https://blog.alandotchin.com
X-WR-CALDESC:Events for Alan Dotchin Blog
REFRESH-INTERVAL;VALUE=DURATION:PT1H
X-Robots-Tag:noindex
X-PUBLISHED-TTL:PT1H
BEGIN:VTIMEZONE
TZID:UTC
BEGIN:STANDARD
TZOFFSETFROM:+0000
TZOFFSETTO:+0000
TZNAME:UTC
DTSTART:20240101T000000
END:STANDARD
END:VTIMEZONE
BEGIN:VEVENT
DTSTART;VALUE=DATE:20250919
DTEND;VALUE=DATE:20250923
DTSTAMP:20260421T080900
CREATED:20250812T143446Z
LAST-MODIFIED:20250923T090241Z
UID:23303-1758240000-1758585599@blog.alandotchin.com
SUMMARY:The Jane Austen Festival
DESCRIPTION:About\nThe 2025 edition of The Jane Austen Festival will take place from Friday 12 September to Sunday 21 September and is the largest and longest running Jane Austen Festival in the world.  \nThe festival begins with the highly-anticipated Regency Costumed Promenade\, which fills the streets of Bath with over 500 people in Regency dress. \nThe 10 day festival includes a varied programme of events inspired by the timeless works of Jane Austen including: guided walks\, costumed balls\, theatrical performances\, talks and more. \nVisit the festival website for the latest updates and ticket availability. 
URL:https://blog.alandotchin.com/event/the-jane-austen-festival-2/
ATTACH;FMTTYPE=image/jpeg:https://blog.alandotchin.com/wp-content/uploads/2025/08/visitbath.co_.jpg
END:VEVENT
BEGIN:VEVENT
DTSTART;VALUE=DATE:20250920
DTEND;VALUE=DATE:20250921
DTSTAMP:20260421T080900
CREATED:20250827T201802Z
LAST-MODIFIED:20250923T090014Z
UID:24535-1758326400-1758412799@blog.alandotchin.com
SUMMARY:Centuries of Stories: Stonehenge & the Cotswolds
DESCRIPTION:Morning\n\nBath to Stonehenge \n\n\n\nToday\, we’re stepping back in time. You depart from Bath and head south\, towards the Salisbury Plain\, an area rich in archaeology & ancient secrets. \n\n\n\n\nMid Morning\n\nStonehenge \n\n\n\nYou arrive at the ancient site of Stonehenge. You’ll have the whole morning to enjoy the visitor centre and get up close to the neolithic stones\, which have stood for over 5000 years. Will you uncover the mystery behind why this monument was built? \n\n\n\n\nAfternoon\n\nAvebury and Lacock Village \n\n\n\nAfter Stonehenge\, you travel north into the rolling hills of the North Wessex Downs. You’re off to the village of Avebury\, to meander around 16th and 17th century homes surrounded by the largest prehistoric stone circle in the world (and have a spot of lunch in the heart of the mysterious stone circle). From here\, it’s a short drive to Lacock\, where you’ll have time to visit the famous abbey. Fans of Harry Potter\, get your cameras ready! You’ll recognise the cloisters\, used as Hogwarts corridors in the movies. There’s plenty to discover in this magical medieval building. \n\n\n\n\nEarly Evening\n\nThe Cotswolds and return to Bath \n\n\n\nThere’s still time for one more historic village\, as you make your way into the Cotswolds. A region famous for traditional\, thatched-roof cottages and rolling hills\, your last stop of the day before heading home is the village of Castle Combe\, widely recognised as one of the prettiest villages in the region. You’ll have time for some last pictures and a short wander\, before returning to Bath. \nYou return to Bath at approximately 6pm.
URL:https://blog.alandotchin.com/event/centuries-of-stories-stonehenge-the-cotswolds/
ATTACH;FMTTYPE=image/webp:https://blog.alandotchin.com/wp-content/uploads/2025/08/rabbies-tour-1200px-10-of-19.webp
END:VEVENT
BEGIN:VEVENT
DTSTART;TZID=UTC:20250920T110000
DTEND;TZID=UTC:20250920T235900
DTSTAMP:20260421T080900
CREATED:20250916T101839Z
LAST-MODIFIED:20250923T090021Z
UID:26825-1758366000-1758412740@blog.alandotchin.com
SUMMARY:Stonehenge: Unraveling the Mysteries of an Ancient Monument
DESCRIPTION:Few landmarks in the world stir as much fascination and curiosity as Stonehenge. Standing on the Salisbury Plain in Wiltshire\, England\, this prehistoric monument has captivated the imaginations of archaeologists\, historians\, tourists\, and mystics alike for centuries. Its weathered stones\, arranged in a circular pattern\, evoke questions that continue to puzzle us today: Who built it? Why was it constructed? How did ancient people move such massive stones without the technology we take for granted? \nStonehenge is not just a pile of rocks; it is a symbol of human ingenuity\, ritual\, and our deep connection to the cosmos. In this post\, we’ll dive into the history\, theories\, and cultural significance of this extraordinary monument\, and why it remains one of the most iconic archaeological sites in the world.
URL:https://blog.alandotchin.com/event/stonehenge-unraveling-the-mysteries-of-an-ancient-monument/
ATTACH;FMTTYPE=image/jpeg:https://blog.alandotchin.com/wp-content/uploads/2025/08/Stonehenge2007_07_30-scaled.jpg
END:VEVENT
BEGIN:VEVENT
DTSTART;TZID=UTC:20250920T120000
DTEND;TZID=UTC:20250920T130000
DTSTAMP:20260421T080900
CREATED:20250916T101948Z
LAST-MODIFIED:20250923T090043Z
UID:26827-1758369600-1758373200@blog.alandotchin.com
SUMMARY:Avebury Henge and Stone Circles: Britain’s Ancient Monument of Mystery
DESCRIPTION:When most people think of ancient stone monuments in Britain\, their minds go immediately to Stonehenge. Yet\, just 25 miles north of its more famous cousin lies a site that is\, in many ways\, even more remarkable: Avebury Henge and Stone Circles. \nThis Neolithic complex\, built around 2600 BCE\, is not only the largest stone circle in Britain but also one of the most impressive prehistoric monuments in the world. Unlike Stonehenge\, Avebury surrounds a living village\, weaving together daily life with deep history. Walking among its massive stones\, feeling their rough surfaces beneath your hand\, you cannot help but sense the echoes of a distant past—rituals\, gatherings\, and beliefs that remain tantalizingly mysterious.
URL:https://blog.alandotchin.com/event/avebury-henge-and-stone-circles-britains-ancient-monument-of-mystery/
ATTACH;FMTTYPE=image/jpeg:https://blog.alandotchin.com/wp-content/uploads/2025/09/Avebury_Panorama_Wiltshire_UK_-_Diliff-scaled.jpg
END:VEVENT
BEGIN:VEVENT
DTSTART;TZID=UTC:20250920T130000
DTEND;TZID=UTC:20250920T140000
DTSTAMP:20260421T080900
CREATED:20250918T072252Z
LAST-MODIFIED:20250923T090054Z
UID:27456-1758373200-1758376800@blog.alandotchin.com
SUMMARY:Lacock Abbey
DESCRIPTION:Lacock Abbey\, located in the village of Lacock in Wiltshire\, England\, is a historic site with a rich and varied past. Founded in the early 13th century as an Augustinian nunnery\, it was later transformed into a country house after the Dissolution of the Monasteries under Henry VIII. The abbey is particularly renowned for its connection to photography\, as it was the home of William Henry Fox Talbot\, one of the pioneers of the medium\, who created the world’s first photographic negative there in 1835. Architecturally\, Lacock Abbey is a fascinating blend of medieval monastic structures and later Tudor and Gothic Revival additions. Surrounded by beautiful grounds and cloisters\, it has often been used as a filming location\, featuring in productions such as Harry Potter and Downton Abbey. Today\, it is cared for by the National Trust and remains a place where history\, science\, and culture intertwine.
URL:https://blog.alandotchin.com/event/lacock-abbey/
ATTACH;FMTTYPE=image/jpeg:https://blog.alandotchin.com/wp-content/uploads/2025/09/1556853-Lacock-Abbey-scaled-1.jpg
END:VEVENT
BEGIN:VEVENT
DTSTART;TZID=UTC:20250920T140000
DTEND;TZID=UTC:20250920T150000
DTSTAMP:20260421T080900
CREATED:20250918T072800Z
LAST-MODIFIED:20250923T090103Z
UID:27459-1758376800-1758380400@blog.alandotchin.com
SUMMARY:The Cotswolds
DESCRIPTION:The Cotswolds\, an Area of Outstanding Natural Beauty in south-central England\, is famed for its rolling hills\, honey-coloured limestone villages\, and idyllic countryside charm. Stretching across several counties\, including Gloucestershire\, Oxfordshire\, and Wiltshire\, the region is rich in history and tradition\, with medieval market towns\, ancient churches\, and stately homes nestled within its landscape. The Cotswolds’ distinctive stone architecture\, winding country lanes\, and picturesque meadows create a quintessentially English character that has long attracted writers\, artists\, and visitors from around the world. Beyond its scenic beauty\, the area offers a wealth of walking trails\, traditional pubs\, craft shops\, and historic landmarks\, making it both a peaceful retreat and a cultural treasure trove.
URL:https://blog.alandotchin.com/event/the-cotswolds/
ATTACH;FMTTYPE=image/jpeg:https://blog.alandotchin.com/wp-content/uploads/2025/09/uk_cotsworld.jpg
END:VEVENT
END:VCALENDAR