BEGIN:VCALENDAR
VERSION:2.0
PRODID:-//Alan Dotchin Blog - ECPv6.15.20//NONSGML v1.0//EN
CALSCALE:GREGORIAN
METHOD:PUBLISH
X-WR-CALNAME:Alan Dotchin Blog
X-ORIGINAL-URL:https://blog.alandotchin.com
X-WR-CALDESC:Events for Alan Dotchin Blog
REFRESH-INTERVAL;VALUE=DURATION:PT1H
X-Robots-Tag:noindex
X-PUBLISHED-TTL:PT1H
BEGIN:VTIMEZONE
TZID:UTC
BEGIN:STANDARD
TZOFFSETFROM:+0000
TZOFFSETTO:+0000
TZNAME:UTC
DTSTART:20240101T000000
END:STANDARD
END:VTIMEZONE
BEGIN:VEVENT
DTSTART;VALUE=DATE:20250919
DTEND;VALUE=DATE:20250923
DTSTAMP:20260419T230917
CREATED:20250812T143446Z
LAST-MODIFIED:20250923T090241Z
UID:23303-1758240000-1758585599@blog.alandotchin.com
SUMMARY:The Jane Austen Festival
DESCRIPTION:About\nThe 2025 edition of The Jane Austen Festival will take place from Friday 12 September to Sunday 21 September and is the largest and longest running Jane Austen Festival in the world.  \nThe festival begins with the highly-anticipated Regency Costumed Promenade\, which fills the streets of Bath with over 500 people in Regency dress. \nThe 10 day festival includes a varied programme of events inspired by the timeless works of Jane Austen including: guided walks\, costumed balls\, theatrical performances\, talks and more. \nVisit the festival website for the latest updates and ticket availability. 
URL:https://blog.alandotchin.com/event/the-jane-austen-festival-2/
ATTACH;FMTTYPE=image/jpeg:https://blog.alandotchin.com/wp-content/uploads/2025/08/visitbath.co_.jpg
END:VEVENT
BEGIN:VEVENT
DTSTART;TZID=UTC:20250919T140000
DTEND;TZID=UTC:20250919T160000
DTSTAMP:20260419T230917
CREATED:20251225T185915Z
LAST-MODIFIED:20251225T185915Z
UID:34661-1758290400-1758297600@blog.alandotchin.com
SUMMARY:Bath City Tour
DESCRIPTION:The Free Bath City Tour is an engaging and informative walking tour that takes visitors through the historic streets of Bath\, England\, offering insights into the city’s rich heritage and stunning architecture. Led by knowledgeable local guides\, the tour covers major landmarks such as the Roman Baths\, Bath Abbey\, the Royal Crescent\, and the Circus\, while sharing fascinating stories about Bath’s Roman origins and Georgian elegance. Designed to be accessible for all\, the tour operates on a tips-only basis\, making it a great way for travellers to explore the city and learn about its culture and history without a fixed fee. With its blend of history\, architecture\, and local knowledge\, the Free Bath City Tour is a popular choice for both first-time visitors and returning guests.
URL:https://blog.alandotchin.com/event/bath-city-tour/
ATTACH;FMTTYPE=image/jpeg:https://blog.alandotchin.com/wp-content/uploads/2025/12/960px-The.circus.bath_.arp_.jpg
END:VEVENT
END:VCALENDAR