BEGIN:VCALENDAR
VERSION:2.0
PRODID:-//Alan Dotchin Blog - ECPv6.15.20//NONSGML v1.0//EN
CALSCALE:GREGORIAN
METHOD:PUBLISH
X-WR-CALNAME:Alan Dotchin Blog
X-ORIGINAL-URL:https://blog.alandotchin.com
X-WR-CALDESC:Events for Alan Dotchin Blog
REFRESH-INTERVAL;VALUE=DURATION:PT1H
X-Robots-Tag:noindex
X-PUBLISHED-TTL:PT1H
BEGIN:VTIMEZONE
TZID:UTC
BEGIN:STANDARD
TZOFFSETFROM:+0000
TZOFFSETTO:+0000
TZNAME:UTC
DTSTART:20240101T000000
END:STANDARD
END:VTIMEZONE
BEGIN:VEVENT
DTSTART;TZID=UTC:20250904T193000
DTEND;TZID=UTC:20250904T213000
DTSTAMP:20260419T230821
CREATED:20250513T222502Z
LAST-MODIFIED:20250513T222825Z
UID:17879-1757014200-1757021400@blog.alandotchin.com
SUMMARY:Adam Kay: A Particularly Nasty Case
DESCRIPTION:Overview\nLee Martin for Gag Reflex presents \nA PARTICULARLY NASTY CASE: A MURDEROUSLY FUNNY EVENING WITH ADAM KAY  \n\nJoin BAFTA-winning writer and comedian Adam Kay for an evening of hilarious and horrifying anecdotes\, as well as a unique insight in to the British healthcare system as he takes the audience behind the blood-splattered blue curtain. Adam will be joined in conversation by another famous face (unless they cancel at the last-minute) who will act as your guide throughout the evening as Adam launches his debut crime novel\, A Particularly Nasty Case. \nExpect tales from the wards\, exclusive readings from and insight into his much-anticipated and hugely gripping new medical mystery at this one-night only (per city) event. The show will also include an audience Q&A with Adam\, author of multi-million global bestseller This is Going to Hurt. \nThese dates are the only opportunity to get a personalised signed edition of A Particularly Nasty Case (included in the ticket price). \n\nTicket purchase includes a copy of A Particularly Nasty Case. Your book will be available for collection on the night. Book RRP normally £20.
URL:https://blog.alandotchin.com/event/adam-kay-a-particularly-nasty-case/
ATTACH;FMTTYPE=image/png:https://blog.alandotchin.com/wp-content/uploads/2025/05/AdamKayAPNC-1.png
END:VEVENT
END:VCALENDAR